BEGIN:VCALENDAR
PRODID:NingEventWidget-v1
VERSION:2.0
METHOD:PUBLISH
BEGIN:VTIMEZONE
TZID:America/Detroit
X-LIC-LOCATION:America/Detroit
BEGIN:DAYLIGHT
TZOFFSETFROM:-0500
TZOFFSETTO:-0400
TZNAME:EDT
DTSTART:19700308T020000
RRULE:FREQ=YEARLY;BYMONTH=3;BYDAY=2SU
END:DAYLIGHT
BEGIN:STANDARD
TZOFFSETFROM:-0400
TZOFFSETTO:-0500
TZNAME:EST
DTSTART:19701101T020000
RRULE:FREQ=YEARLY;BYMONTH=11;BYDAY=1SU
END:STANDARD
END:VTIMEZONE
BEGIN:VEVENT
UID:1980062:Event:52045
DTSTAMP:20260422T033723Z
SUMMARY:10th World Congress for Hair Research
DESCRIPTION:The 10th WCHR will bring together hair biologists, tissue 
 engineers, dermatologists, aesthetic scientists, and hair transplantat
 ion surgeons worldwide to the historical city of Kyoto with the aim of
  “visiting the old, finding the new,” as a Japanese proverb says
 in other words, to present new knowledge, techniques and approaches f
 or the advancement of hair-related science, while also reviewing the p
 ast activities of hair research societies, educational lectures, and c
 linical case reports for new insights. The congress program will inclu
 de keynote lectures, plenary and concurrent sessions, scientific poste
 rs, clinical workshops, sponsored seminars, and more.\n\nFor more info
 rmation visit https://community.dermrounds.com/events/10th-world-congr
 ess-for-hair-research
DTSTART;TZID=America/Detroit:20171031T000000
DTEND;TZID=America/Detroit:20171103T235900
CATEGORIES:congress
LOCATION:Kyoto, Japan
WEBSITE:http://www.congre.co.jp/wchr2017/
URL:http://www.congre.co.jp/wchr2017/
CONTACT:
ORGANIZER:
ATTACH;FMTTYPE="image/jpeg":
ATTENDEE;ROLE=REQ-PARTICIPANT;PARTSTAT=ACCEPTED;RSVP=TRUE;CN="SkinDoc 
 MD":https://community.dermrounds.com/profile/SkinDocMD
END:VEVENT
END:VCALENDAR
