BEGIN:VCALENDAR
PRODID:NingEventWidget-v1
VERSION:2.0
METHOD:PUBLISH
BEGIN:VTIMEZONE
TZID:America/Detroit
X-LIC-LOCATION:America/Detroit
BEGIN:DAYLIGHT
TZOFFSETFROM:-0500
TZOFFSETTO:-0400
TZNAME:EDT
DTSTART:19700308T020000
RRULE:FREQ=YEARLY;BYMONTH=3;BYDAY=2SU
END:DAYLIGHT
BEGIN:STANDARD
TZOFFSETFROM:-0400
TZOFFSETTO:-0500
TZNAME:EST
DTSTART:19701101T020000
RRULE:FREQ=YEARLY;BYMONTH=11;BYDAY=1SU
END:STANDARD
END:VTIMEZONE
BEGIN:VEVENT
UID:1980062:Event:51709
DTSTAMP:20260421T151732Z
SUMMARY:13th Annual Coastal Dermatology Symposium
DESCRIPTION:The 13th Annual Coastal Dermatology Symposium is a three-d
 ay CME/CE conference which features an educational program with intern
 ationally-known faculty who will provide the latest updates in medical
  dermatology and the diagnosis and treatment of various dermatologic c
 onditions. The program is interactive, informative and immediately use
 ful in the care of your patients.\n\nFor more information visit https:
 //community.dermrounds.com/events/13th-annual-coastal-dermatology-symp
 osium
DTSTART;TZID=America/Detroit:20171005T000000
DTEND;TZID=America/Detroit:20171007T000000
CATEGORIES:conference
LOCATION:The Nines Hotel, Oregon
WEBSITE:http://www.coastalderm.org
URL:http://www.coastalderm.org
CONTACT:502 569-1356
ORGANIZER:Global Academy for Medical Education
ATTACH;FMTTYPE="image/jpeg":
ATTENDEE;ROLE=REQ-PARTICIPANT;PARTSTAT=ACCEPTED;RSVP=TRUE;CN="SkinDoc 
 MD":https://community.dermrounds.com/profile/SkinDocMD
END:VEVENT
END:VCALENDAR
