BEGIN:VCALENDAR
PRODID:NingEventWidget-v1
VERSION:2.0
METHOD:PUBLISH
BEGIN:VTIMEZONE
TZID:America/Detroit
X-LIC-LOCATION:America/Detroit
BEGIN:DAYLIGHT
TZOFFSETFROM:-0500
TZOFFSETTO:-0400
TZNAME:EDT
DTSTART:19700308T020000
RRULE:FREQ=YEARLY;BYMONTH=3;BYDAY=2SU
END:DAYLIGHT
BEGIN:STANDARD
TZOFFSETFROM:-0400
TZOFFSETTO:-0500
TZNAME:EST
DTSTART:19701101T020000
RRULE:FREQ=YEARLY;BYMONTH=11;BYDAY=1SU
END:STANDARD
END:VTIMEZONE
BEGIN:VEVENT
UID:1980062:Event:51872
DTSTAMP:20260421T182846Z
SUMMARY:13th Women's & Pediatric Dermatology Seminar
DESCRIPTION:Join us in Newport Beach, CA at Skin Disease Education Fou
 ndation’s (SDEF) 13th Annual Women’s & Pediatric Dermatology Semin
 ar as we explore the chief clinical topics relevant to skin diseases i
 n women and children. Our expert faculty present information that is i
 mmediately useful for your patients, from infants through adults. Inte
 ractive paneldiscussions, interesting cases, and the opportunity to ex
 change ideas with colleagues and faculty make this unique, CME/CE conf
 erence a must. Clinicians including dermatologists,primary care physic
 ians, pediatricians, ob/gyns, residents, nurse practitioners, physicia
 n assistants, and nurses who manage skin diseases in adult women and/o
 r children are invited toattend.\n\nFor more information visit https:/
 /community.dermrounds.com/events/13th-women-s-pediatric-dermatology-se
 minar
DTSTART;TZID=America/Detroit:20171013T000000
DTEND;TZID=America/Detroit:20171014T000000
CATEGORIES:seminar
LOCATION:Island Hotel Newport Beach, California
WEBSITE:http://www.globalacademycme.com/dermatology
URL:http://www.globalacademycme.com/dermatology
CONTACT:312-965-8006
ORGANIZER:Global Academy for Medical Education
ATTACH;FMTTYPE="image/jpeg":
ATTENDEE;ROLE=REQ-PARTICIPANT;PARTSTAT=ACCEPTED;RSVP=TRUE;CN="SkinDoc 
 MD":https://community.dermrounds.com/profile/SkinDocMD
END:VEVENT
END:VCALENDAR
