BEGIN:VCALENDAR
PRODID:NingEventWidget-v1
VERSION:2.0
METHOD:PUBLISH
BEGIN:VTIMEZONE
TZID:America/Detroit
X-LIC-LOCATION:America/Detroit
BEGIN:DAYLIGHT
TZOFFSETFROM:-0500
TZOFFSETTO:-0400
TZNAME:EDT
DTSTART:19700308T020000
RRULE:FREQ=YEARLY;BYMONTH=3;BYDAY=2SU
END:DAYLIGHT
BEGIN:STANDARD
TZOFFSETFROM:-0400
TZOFFSETTO:-0500
TZNAME:EST
DTSTART:19701101T020000
RRULE:FREQ=YEARLY;BYMONTH=11;BYDAY=1SU
END:STANDARD
END:VTIMEZONE
BEGIN:VEVENT
UID:1980062:Event:51582
DTSTAMP:20260420T191820Z
SUMMARY:13th World Congress of Pediatric Dermatology
DESCRIPTION:Pediatric Dermatologists, Pediatricians and Dermatologists
  will want to attend this international meeting, featuring Courses, Sy
 mposia, and Seminars presented by leading Pediatric Dermatologists fro
 m all over the world. The Congress will also include cutting-edge oral
  and poster presentations, as well as Cases of the Year and exhibits.\
 n\nFor more information visit https://community.dermrounds.com/events/
 13th-world-congress-of-pediatric-dermatology
DTSTART;TZID=America/Detroit:20170706T000000
DTEND;TZID=America/Detroit:20170709T000000
CATEGORIES:congress
LOCATION:Hyatt Regency Chicago
WEBSITE:http://pedsderm.net/meetings/world-congress-of-pediatric-derma
 tology/
URL:http://pedsderm.net/meetings/world-congress-of-pediatric-dermatolo
 gy/
CONTACT:317-202-0224
ORGANIZER:Society for Pediatric Dermatology
ATTACH;FMTTYPE="image/jpeg":
ATTENDEE;ROLE=REQ-PARTICIPANT;PARTSTAT=ACCEPTED;RSVP=TRUE;CN="SkinDoc 
 MD":https://community.dermrounds.com/profile/SkinDocMD
END:VEVENT
END:VCALENDAR
