BEGIN:VCALENDAR
PRODID:NingEventWidget-v1
VERSION:2.0
METHOD:PUBLISH
BEGIN:VTIMEZONE
TZID:America/Detroit
X-LIC-LOCATION:America/Detroit
BEGIN:DAYLIGHT
TZOFFSETFROM:-0500
TZOFFSETTO:-0400
TZNAME:EDT
DTSTART:19700308T020000
RRULE:FREQ=YEARLY;BYMONTH=3;BYDAY=2SU
END:DAYLIGHT
BEGIN:STANDARD
TZOFFSETFROM:-0400
TZOFFSETTO:-0500
TZNAME:EST
DTSTART:19701101T020000
RRULE:FREQ=YEARLY;BYMONTH=11;BYDAY=1SU
END:STANDARD
END:VTIMEZONE
BEGIN:VEVENT
UID:1980062:Event:51878
DTSTAMP:20260422T053035Z
SUMMARY:18th Las Vegas Dermatology Seminar
DESCRIPTION:Join us at Skin Disease Education Foundation’s (SDEF) 18
 th Annual Las Vegas DermatologySeminar, November 2-4, 2017. Nationally
  known leaders in the field of dermatology willpresent recent advances
  and emerging trends in the diagnosis, treatment, and monitoring ofpat
 ients with skin diseases. This highly scientific three-day CME/CE conf
 erence features key clinical topics such as acne, rosacea, AK, contact
  dermatitis, psoriasis, atopic dermatitis, onychomycosis and other fun
 gal infections, infectious diseases in dermatology, fillers, toxins, d
 evices, cases and more.SDEF’s Psoriasis Forum is now in its 14th yea
 r. This in-depth, comprehensive program is featured on day two. Clinic
 al presentations, interactive panels and cases covering current and em
 erging therapies for the treatment of psoriasis are covered throughout
  the day.\n\nFor more information visit https://community.dermrounds.c
 om/events/18th-las-vegas-dermatology-seminar
DTSTART;TZID=America/Detroit:20171102T000000
DTEND;TZID=America/Detroit:20171104T000000
CATEGORIES:seminar
LOCATION:Caesars Palace, Nevada
WEBSITE:http://www.globalacademycme.com/dermatology
URL:http://www.globalacademycme.com/dermatology
CONTACT:312-965-8006
ORGANIZER:Global Academy for Medical Education
ATTACH;FMTTYPE="image/jpeg":
ATTENDEE;ROLE=REQ-PARTICIPANT;PARTSTAT=ACCEPTED;RSVP=TRUE;CN="SkinDoc 
 MD":https://community.dermrounds.com/profile/SkinDocMD
END:VEVENT
END:VCALENDAR
