BEGIN:VCALENDAR
PRODID:NingEventWidget-v1
VERSION:2.0
METHOD:PUBLISH
BEGIN:VTIMEZONE
TZID:America/Detroit
X-LIC-LOCATION:America/Detroit
BEGIN:DAYLIGHT
TZOFFSETFROM:-0500
TZOFFSETTO:-0400
TZNAME:EDT
DTSTART:19700308T020000
RRULE:FREQ=YEARLY;BYMONTH=3;BYDAY=2SU
END:DAYLIGHT
BEGIN:STANDARD
TZOFFSETFROM:-0400
TZOFFSETTO:-0500
TZNAME:EST
DTSTART:19701101T020000
RRULE:FREQ=YEARLY;BYMONTH=11;BYDAY=1SU
END:STANDARD
END:VTIMEZONE
BEGIN:VEVENT
UID:1980062:Event:51722
DTSTAMP:20260422T082721Z
SUMMARY:1st World Congress of Dermatologic and Aesthetic Surgery
DESCRIPTION:38th Annual Meeting of the ISDS\n\nFor more information vi
 sit https://community.dermrounds.com/events/1st-world-congress-of-derm
 atologic-and-aesthetic-surgery
DTSTART;TZID=America/Detroit:20171108T000000
DTEND;TZID=America/Detroit:20171112T000000
CATEGORIES:congress
LOCATION:Shangri-La Hotel Bangkok
WEBSITE:http://www.isdsworld.com
URL:http://www.isdsworld.com
CONTACT:+49-6151-9518892
ORGANIZER:ISDS
ATTACH;FMTTYPE="image/jpeg":
ATTENDEE;ROLE=REQ-PARTICIPANT;PARTSTAT=ACCEPTED;RSVP=TRUE;CN="SkinDoc 
 MD":https://community.dermrounds.com/profile/SkinDocMD
END:VEVENT
END:VCALENDAR
