BEGIN:VCALENDAR
PRODID:NingEventWidget-v1
VERSION:2.0
METHOD:PUBLISH
BEGIN:VTIMEZONE
TZID:America/Detroit
X-LIC-LOCATION:America/Detroit
BEGIN:DAYLIGHT
TZOFFSETFROM:-0500
TZOFFSETTO:-0400
TZNAME:EDT
DTSTART:19700308T020000
RRULE:FREQ=YEARLY;BYMONTH=3;BYDAY=2SU
END:DAYLIGHT
BEGIN:STANDARD
TZOFFSETFROM:-0400
TZOFFSETTO:-0500
TZNAME:EST
DTSTART:19701101T020000
RRULE:FREQ=YEARLY;BYMONTH=11;BYDAY=1SU
END:STANDARD
END:VTIMEZONE
BEGIN:VEVENT
UID:1980062:Event:51593
DTSTAMP:20260421T053115Z
SUMMARY:2017 Controversies and Conversations in Laser & Cosmetic Surge
 ry
DESCRIPTION:Each year sees the development of many new lasers and ligh
 t sources, skin tightening devices, relaxers, fillers, and other cosme
 tic interventions, each with proponents and opponents. The claims and 
 disclaims that follow the development of these devices is often contra
 dictory. Marketing often precedes the availability of good information
  about their efficacy and risks. A faculty of distinguished speakers w
 ill present their views and develop a consensus on many of these contr
 oversies and other emerging areas. “Controversies” offers particip
 ants a unique opportunity to discuss these controversial topics in a c
 ollegial atmosphere with a large group of experts in the field. This c
 ourse will be of benefit to beginner and experienced laser and aesthet
 ic surgeons, dermatologists, plastic surgeons, otolaryngologists, opht
 halmologists, oculoplastic surgeons, and other health care personnel i
 nterested in the current status of cutaneous and cosmetic surgery\n\nF
 or more information visit https://community.dermrounds.com/events/2017
 -controversies-and-conversations-in-laser-cosmetic-surgery
DTSTART;TZID=America/Detroit:20170811T070000
DTEND;TZID=America/Detroit:20170813T120000
CATEGORIES:conversation
LOCATION:St. Regis Monarch Beach Resort, California
WEBSITE:http://www.skincarecontroversies.com
URL:http://www.skincarecontroversies.com
CONTACT:18179220984
ORGANIZER;CN="SkinDoc MD":https://community.dermrounds.com/profile/Ski
 nDocMD
ATTACH;FMTTYPE="image/jpeg":
ATTENDEE;ROLE=REQ-PARTICIPANT;PARTSTAT=ACCEPTED;RSVP=TRUE;CN="SkinDoc 
 MD":https://community.dermrounds.com/profile/SkinDocMD
END:VEVENT
END:VCALENDAR
