BEGIN:VCALENDAR
PRODID:NingEventWidget-v1
VERSION:2.0
METHOD:PUBLISH
BEGIN:VTIMEZONE
TZID:America/Detroit
X-LIC-LOCATION:America/Detroit
BEGIN:DAYLIGHT
TZOFFSETFROM:-0500
TZOFFSETTO:-0400
TZNAME:EDT
DTSTART:19700308T020000
RRULE:FREQ=YEARLY;BYMONTH=3;BYDAY=2SU
END:DAYLIGHT
BEGIN:STANDARD
TZOFFSETFROM:-0400
TZOFFSETTO:-0500
TZNAME:EST
DTSTART:19701101T020000
RRULE:FREQ=YEARLY;BYMONTH=11;BYDAY=1SU
END:STANDARD
END:VTIMEZONE
BEGIN:VEVENT
UID:1980062:Event:51599
DTSTAMP:20260421T165035Z
SUMMARY:2017 Fall Clinical Dermatology Conference
DESCRIPTION:The 2017 Fall Clinical Dermatology Conference® is a four-
 day program designed to provide practitioners who care for people with
  skin disease, including dermatologists, dermatologic surgeons, dermat
 ology residents, dermatology fellows, dermatology physician assistants
  and dermatology nurse practitioners, with a therapeutic update based 
 on real-life experience of the faculty. It will address the best appro
 aches to better health-related outcomes for both well-recognized and n
 ew described disease states/dermatologic conditions including but not 
 limited to: melanoma, non-melanoma skin cancer, psoriasis, atopic derm
 atitis, new therapeutics, acne, dermatopathology, sexually transmitted
  diseases, fillers, neurotoxins, sunscreens, actinic keratosis, rosace
 a, cleansers and emollients, suture materials, pediatric dermatology, 
 cosmeceuticals, wound healing, flushing, pigmentary disorders, bullous
  diseases and arthropod dermatoses.The conference agenda has been care
 fully developed to provide pearls of knowledge for daily use to the pr
 acticing dermatologist in an intimate environment designed to maximize
  faculty/registrant interactions. Through daily lectures, panels, live
 -patient workshops, and question-and-answer sessions, attendees will o
 btain practical and important information for their dermatology practi
 ce.\n\nFor more information visit https://community.dermrounds.com/eve
 nts/2017-fall-clinical-dermatology-conference
DTSTART;TZID=America/Detroit:20171012T000000
DTEND;TZID=America/Detroit:20171015T000000
CATEGORIES:conference
LOCATION:Wynn Hotel, Nevada
WEBSITE:http://www.clinicaldermconf.org
URL:http://www.clinicaldermconf.org
CONTACT:19149239719
ORGANIZER:Foundation for Research and Education in Dermatology
ATTACH;FMTTYPE="image/jpeg":
ATTENDEE;ROLE=REQ-PARTICIPANT;PARTSTAT=ACCEPTED;RSVP=TRUE;CN="SkinDoc 
 MD":https://community.dermrounds.com/profile/SkinDocMD
END:VEVENT
END:VCALENDAR
