BEGIN:VCALENDAR
PRODID:NingEventWidget-v1
VERSION:2.0
METHOD:PUBLISH
BEGIN:VTIMEZONE
TZID:America/Detroit
X-LIC-LOCATION:America/Detroit
BEGIN:DAYLIGHT
TZOFFSETFROM:-0500
TZOFFSETTO:-0400
TZNAME:EDT
DTSTART:19700308T020000
RRULE:FREQ=YEARLY;BYMONTH=3;BYDAY=2SU
END:DAYLIGHT
BEGIN:STANDARD
TZOFFSETFROM:-0400
TZOFFSETTO:-0500
TZNAME:EST
DTSTART:19701101T020000
RRULE:FREQ=YEARLY;BYMONTH=11;BYDAY=1SU
END:STANDARD
END:VTIMEZONE
BEGIN:VEVENT
UID:1980062:Event:51869
DTSTAMP:20260421T003720Z
SUMMARY:2017 Summer Academy Meeting
DESCRIPTION:2017 Summer Academy Meeting will be held in 1335 Ave of t
 he Americas, New York starting at 12am on July 27th, 2017. Welcome!\n\
 nFor more information visit https://community.dermrounds.com/events/20
 17-summer-academy-meeting
DTSTART;TZID=America/Detroit:20170727T000000
DTEND;TZID=America/Detroit:20170730T000000
CATEGORIES:meeting
LOCATION:New York Hilton Midtown, New York
WEBSITE:http://www.aad.org
URL:http://www.aad.org
CONTACT:847-330-0230
ORGANIZER:American Academy of Dermatology
ATTACH;FMTTYPE="image/jpeg":
ATTENDEE;ROLE=REQ-PARTICIPANT;PARTSTAT=ACCEPTED;RSVP=TRUE;CN="SkinDoc 
 MD":https://community.dermrounds.com/profile/SkinDocMD
END:VEVENT
END:VCALENDAR
