BEGIN:VCALENDAR
PRODID:NingEventWidget-v1
VERSION:2.0
METHOD:PUBLISH
BEGIN:VTIMEZONE
TZID:America/Detroit
X-LIC-LOCATION:America/Detroit
BEGIN:DAYLIGHT
TZOFFSETFROM:-0500
TZOFFSETTO:-0400
TZNAME:EDT
DTSTART:19700308T020000
RRULE:FREQ=YEARLY;BYMONTH=3;BYDAY=2SU
END:DAYLIGHT
BEGIN:STANDARD
TZOFFSETFROM:-0400
TZOFFSETTO:-0500
TZNAME:EST
DTSTART:19701101T020000
RRULE:FREQ=YEARLY;BYMONTH=11;BYDAY=1SU
END:STANDARD
END:VTIMEZONE
BEGIN:VEVENT
UID:1980062:Event:51602
DTSTAMP:20260422T100242Z
SUMMARY:2018 Winter Clinical Dermatology Conference - Hawaii
DESCRIPTION:The 2018 Winter Clinical Dermatology Conference - Hawaii®
  is a six-day program designed to provide practitioners who care for p
 eople with skin disease, including dermatologists, dermatologic surgeo
 ns, dermatology residents, dermatology fellows, dermatology physician 
 assistants and dermatology nurse practitioners, with a therapeutic upd
 ate based on real-life experience of the faculty. It will address the 
 best approaches to better health-related outcomes for both well-recogn
 ized and new described disease states/dermatologic conditions includin
 g but not limited to: melanoma, non-melanoma skin cancer, psoriasis, a
 topic dermatitis, new therapeutics, acne, dermatopathology, sexually t
 ransmitted diseases, fillers, neurotoxins, sunscreens, actinic keratos
 is, rosacea, cleansers and emollients, suture materials, pediatric der
 matology, cosmeceuticals, wound healing, flushing, pigmentary disorder
 s, bullous diseases and arthropod dermatoses.The conference agenda has
  been carefully developed to provide pearls of knowledge for daily use
  to the practicing dermatologist in an intimate environment designed t
 o maximize faculty/registrant interactions. Through daily lectures, pa
 nels, live-patient workshops, and question-and-answer sessions, attend
 ees will obtain practical and important information for their dermatol
 ogy practice.\n\nFor more information visit https://community.dermroun
 ds.com/events/2018-winter-clinical-dermatology-conference-hawaii
DTSTART;TZID=America/Detroit:20180112T000000
DTEND;TZID=America/Detroit:20180117T000000
CATEGORIES:conference
LOCATION:Hyatt Regency Maui, Hawaii
WEBSITE:http://www.clinicaldermconf.org
URL:http://www.clinicaldermconf.org
CONTACT:19149239719
ORGANIZER:
ATTACH;FMTTYPE="image/jpeg":
ATTENDEE;ROLE=REQ-PARTICIPANT;PARTSTAT=ACCEPTED;RSVP=TRUE;CN="SkinDoc 
 MD":https://community.dermrounds.com/profile/SkinDocMD
END:VEVENT
END:VCALENDAR
