BEGIN:VCALENDAR
PRODID:NingEventWidget-v1
VERSION:2.0
METHOD:PUBLISH
BEGIN:VTIMEZONE
TZID:America/Detroit
X-LIC-LOCATION:America/Detroit
BEGIN:DAYLIGHT
TZOFFSETFROM:-0500
TZOFFSETTO:-0400
TZNAME:EDT
DTSTART:19700308T020000
RRULE:FREQ=YEARLY;BYMONTH=3;BYDAY=2SU
END:DAYLIGHT
BEGIN:STANDARD
TZOFFSETFROM:-0400
TZOFFSETTO:-0500
TZNAME:EST
DTSTART:19701101T020000
RRULE:FREQ=YEARLY;BYMONTH=11;BYDAY=1SU
END:STANDARD
END:VTIMEZONE
BEGIN:VEVENT
UID:1980062:Event:51776
DTSTAMP:20260421T102453Z
SUMMARY:2nd International Conference and Exhibition on Dual Diagnosis
DESCRIPTION:2nd International Conference and Exhibition on Dual Diagno
 sis which is going to be held during May 18-19, 2017 in Munich, German
 y\n\nFor more information visit https://community.dermrounds.com/event
 s/2nd-international-conference-and-exhibition-on-dual-diagnosis
DTSTART;TZID=America/Detroit:20170518T120000
DTEND;TZID=America/Detroit:20170519T120000
CATEGORIES:conference
LOCATION:TBA, Munich
WEBSITE:http://dualdiagnosis.conferenceseries.com/
URL:http://dualdiagnosis.conferenceseries.com/
CONTACT:07025085200
ORGANIZER:Conferenceseries LLC
ATTACH;FMTTYPE="image/jpeg":
ATTENDEE;ROLE=REQ-PARTICIPANT;PARTSTAT=ACCEPTED;RSVP=TRUE;CN="SkinDoc 
 MD":https://community.dermrounds.com/profile/SkinDocMD
END:VEVENT
END:VCALENDAR
