BEGIN:VCALENDAR
PRODID:NingEventWidget-v1
VERSION:2.0
METHOD:PUBLISH
BEGIN:VTIMEZONE
TZID:America/Detroit
X-LIC-LOCATION:America/Detroit
BEGIN:DAYLIGHT
TZOFFSETFROM:-0500
TZOFFSETTO:-0400
TZNAME:EDT
DTSTART:19700308T020000
RRULE:FREQ=YEARLY;BYMONTH=3;BYDAY=2SU
END:DAYLIGHT
BEGIN:STANDARD
TZOFFSETFROM:-0400
TZOFFSETTO:-0500
TZNAME:EST
DTSTART:19701101T020000
RRULE:FREQ=YEARLY;BYMONTH=11;BYDAY=1SU
END:STANDARD
END:VTIMEZONE
BEGIN:VEVENT
UID:1980062:Event:51782
DTSTAMP:20260421T083505Z
SUMMARY:31st Annual Hot Spots in Dermatology
DESCRIPTION:This is an annual program addressing clinical, psychocutan
 eous, and spiritual aspects of dermatology.\n\nFor more information vi
 sit https://community.dermrounds.com/events/31st-annual-hot-spots-in-d
 ermatology
DTSTART;TZID=America/Detroit:20170818T000000
DTEND;TZID=America/Detroit:20170820T000000
CATEGORIES:annual, program
LOCATION:Turtle Bay Resort, Hawaii
WEBSITE:http://www.hotspotshawaii.blogspot.com
URL:http://www.hotspotshawaii.blogspot.com
CONTACT:413-458-2800
ORGANIZER:
ATTACH;FMTTYPE="image/jpeg":
ATTENDEE;ROLE=REQ-PARTICIPANT;PARTSTAT=ACCEPTED;RSVP=TRUE;CN="SkinDoc 
 MD":https://community.dermrounds.com/profile/SkinDocMD
END:VEVENT
END:VCALENDAR
