BEGIN:VCALENDAR
PRODID:NingEventWidget-v1
VERSION:2.0
METHOD:PUBLISH
BEGIN:VTIMEZONE
TZID:America/Detroit
X-LIC-LOCATION:America/Detroit
BEGIN:DAYLIGHT
TZOFFSETFROM:-0500
TZOFFSETTO:-0400
TZNAME:EDT
DTSTART:19700308T020000
RRULE:FREQ=YEARLY;BYMONTH=3;BYDAY=2SU
END:DAYLIGHT
BEGIN:STANDARD
TZOFFSETFROM:-0400
TZOFFSETTO:-0500
TZNAME:EST
DTSTART:19701101T020000
RRULE:FREQ=YEARLY;BYMONTH=11;BYDAY=1SU
END:STANDARD
END:VTIMEZONE
BEGIN:VEVENT
UID:1980062:Event:51779
DTSTAMP:20260421T043517Z
SUMMARY:37th Annual Advances in Dermatology
DESCRIPTION:This course will focus on newly emerging clinically applic
 able knowledge – ranging from new guidelines to recognition of emerg
 ing agents and adverse events to translational research - regarding th
 e best approaches to management of patients in order to achieve the be
 st quality of care/outcomes for patients suffering from both common an
 d uncommon dermatologic conditions.\n\nFor more information visit http
 s://community.dermrounds.com/events/37th-annual-advances-in-dermatolog
 y
DTSTART;TZID=America/Detroit:20170608T073000
DTEND;TZID=America/Detroit:20170609T170000
CATEGORIES:course
LOCATION:NYU Langone Medical Center
WEBSITE:http://med.nyu.edu/cme/derm
URL:http://med.nyu.edu/cme/derm
CONTACT:212-263-2984
ORGANIZER:
ATTACH;FMTTYPE="image/jpeg":
ATTENDEE;ROLE=REQ-PARTICIPANT;PARTSTAT=ACCEPTED;RSVP=TRUE;CN="SkinDoc 
 MD":https://community.dermrounds.com/profile/SkinDocMD
END:VEVENT
END:VCALENDAR
