BEGIN:VCALENDAR
PRODID:NingEventWidget-v1
VERSION:2.0
METHOD:PUBLISH
BEGIN:VTIMEZONE
TZID:America/Detroit
X-LIC-LOCATION:America/Detroit
BEGIN:DAYLIGHT
TZOFFSETFROM:-0500
TZOFFSETTO:-0400
TZNAME:EDT
DTSTART:19700308T020000
RRULE:FREQ=YEARLY;BYMONTH=3;BYDAY=2SU
END:DAYLIGHT
BEGIN:STANDARD
TZOFFSETFROM:-0400
TZOFFSETTO:-0500
TZNAME:EST
DTSTART:19701101T020000
RRULE:FREQ=YEARLY;BYMONTH=11;BYDAY=1SU
END:STANDARD
END:VTIMEZONE
BEGIN:VEVENT
UID:1980062:Event:51696
DTSTAMP:20260421T055645Z
SUMMARY:37th Annual NYU Langone Advances in Dermatology
DESCRIPTION:Dermatology is a rapidly evolving specialty, with new adva
 nces in medical, surgical, and cosmetic dermatology made every year. N
 ew medications and treatment modalities for both common and uncommon d
 ermatological diseases have been released, or will be in the next few 
 years, that will change the treatment indications for these conditions
 . In addition, older medications may still play a role in treating the
 se conditions, and how they should be properly incorporated is vital f
 or optimizing patient outcomes. This two-day program will educate prac
 titioners with an interest in the care of persons with skin disorders,
  including dermatologists, dermatologic surgeons, other specialists, p
 rimary care physicians, and residents in dermatology with current ther
 apeutic options and treatment guidelines as taught by an experienced f
 aculty. It will focus on newly emerging clinically applicable knowledg
 e — ranging from new guidelines to recognition of emerging agents an
 d adverse events to translational research — regarding the best appr
 oaches to management of patients in order to achieve the best quality 
 of care/ outcomes for patients suffering from both common and uncommon
  dermatologic conditions.\n\nFor more information visit https://commun
 ity.dermrounds.com/events/37th-annual-nyu-langone-advances-in-dermatol
 ogy
DTSTART;TZID=America/Detroit:20170608T000000
DTEND;TZID=America/Detroit:20170609T000000
CATEGORIES:conference
LOCATION:NYU Langone Medical Center, Alumni Hall
WEBSITE:http://med.nyu.edu/cme/derm
URL:http://med.nyu.edu/cme/derm
CONTACT:212-263-5295
ORGANIZER:NYU Post Graduate Medical Education
ATTACH;FMTTYPE="image/jpeg":
ATTENDEE;ROLE=REQ-PARTICIPANT;PARTSTAT=ACCEPTED;RSVP=TRUE;CN="SkinDoc 
 MD":https://community.dermrounds.com/profile/SkinDocMD
END:VEVENT
END:VCALENDAR
