BEGIN:VCALENDAR
PRODID:NingEventWidget-v1
VERSION:2.0
METHOD:PUBLISH
BEGIN:VTIMEZONE
TZID:America/Detroit
X-LIC-LOCATION:America/Detroit
BEGIN:DAYLIGHT
TZOFFSETFROM:-0500
TZOFFSETTO:-0400
TZNAME:EDT
DTSTART:19700308T020000
RRULE:FREQ=YEARLY;BYMONTH=3;BYDAY=2SU
END:DAYLIGHT
BEGIN:STANDARD
TZOFFSETFROM:-0400
TZOFFSETTO:-0500
TZNAME:EST
DTSTART:19701101T020000
RRULE:FREQ=YEARLY;BYMONTH=11;BYDAY=1SU
END:STANDARD
END:VTIMEZONE
BEGIN:VEVENT
UID:1980062:Event:51682
DTSTAMP:20260421T045042Z
SUMMARY:3rd European Congress on Tattoo and Pigment Research
DESCRIPTION:It is a pleasure to invite you to the 3rd European Congres
 s on Tattoo and Pigment Research. The congress will take place on 28-3
 0 March 2017 in Regensburg, Germany which is a prominent World Heritag
 e Site of UNESCO.The congress will gather participants from all over E
 urope and outside working in the field of tattoos, pigment research, a
 nd tattoo related medicine.Experts will present lectures ranging from 
 the practice of tattooing up to the treatment of tattoo complications.
 Expected topics will be:The practice and epidemiology of tattoos, Tat
 too complications and their treatment - an open avenue in dermatology,
  Laser removal, from nano- to picosecond, with video session,Inks, ta
 ttooing, tattooists and coming EU initiatives, Industrial seminar, D
 iscussions and QandA sessionWe look forward to welcoming you to Regens
 burg in 2017.On behalf of the ESTP board and the Local Organising Comm
 itteeECTP 2017 Congress PresidentWolfgang Baumler, MSc, ProfessorDepar
 tment of DermatologyUniversity Hospital of RegensburgRegensburg, Germa
 ny\n\nFor more information visit https://community.dermrounds.com/even
 ts/3rd-european-congress-on-tattoo-and-pigment-research
DTSTART;TZID=America/Detroit:20170328T000000
DTEND;TZID=America/Detroit:20170330T000000
CATEGORIES:congress
LOCATION:University Hospital of Regensburg
WEBSITE:https://go.evvnt.com/76656-0
URL:https://go.evvnt.com/76656-0
CONTACT:+45 70 20 03 05
ORGANIZER:ESTP Secretariat
ATTACH;FMTTYPE="image/jpeg":
ATTENDEE;ROLE=REQ-PARTICIPANT;PARTSTAT=ACCEPTED;RSVP=TRUE;CN="SkinDoc 
 MD":https://community.dermrounds.com/profile/SkinDocMD
END:VEVENT
END:VCALENDAR
