BEGIN:VCALENDAR
PRODID:NingEventWidget-v1
VERSION:2.0
METHOD:PUBLISH
BEGIN:VTIMEZONE
TZID:America/Detroit
X-LIC-LOCATION:America/Detroit
BEGIN:DAYLIGHT
TZOFFSETFROM:-0500
TZOFFSETTO:-0400
TZNAME:EDT
DTSTART:19700308T020000
RRULE:FREQ=YEARLY;BYMONTH=3;BYDAY=2SU
END:DAYLIGHT
BEGIN:STANDARD
TZOFFSETFROM:-0400
TZOFFSETTO:-0500
TZNAME:EST
DTSTART:19701101T020000
RRULE:FREQ=YEARLY;BYMONTH=11;BYDAY=1SU
END:STANDARD
END:VTIMEZONE
BEGIN:VEVENT
UID:1980062:Event:51705
DTSTAMP:20260421T115749Z
SUMMARY:3rd International Conference on Optometry and Vision Science
DESCRIPTION:It is our pleasure to welcome you to the 3rd International
  Conference on Optometry and Vision Science during September 18-19, 20
 17 at Macau, Hong Kong. Global optometry 2017 welcomes Optometrists, O
 pticians, Ophthalmologists, Cataract surgeons, Vision therapists, Ocul
 ist, Ocular surgeons, Orthoptist, Opticians, researchers, students, in
 dustrial delegates from Academia and Research along with the industria
 l professionals from biomedical companies and healthcare sectors.Confe
 renceSeries.com hosts 3000+ Global Events that includes over 1000+ Int
 ernational Conferences, 1000+ Symposiums and 1000+Workshops and precon
 ference workshops on diverse Medical, Pharmaceutical, Clinical, Engine
 ering, Science, Technology, Business and Management fields. Over 25 Mi
 llion visitors flock to our websites to observe the attest development
 s in fields.\n\nFor more information visit https://community.dermround
 s.com/events/3rd-international-conference-on-optometry-and-vision-scie
 nce
DTSTART;TZID=America/Detroit:20170918T083000
DTEND;TZID=America/Detroit:20170919T170000
CATEGORIES:conference
LOCATION:Macau, Hong Kong
WEBSITE:http://optometry.conferenceseries.com/asiapacific/
URL:http://optometry.conferenceseries.com/asiapacific/
CONTACT:(702) 508-5200
ORGANIZER:conference series LLC
ATTACH;FMTTYPE="image/jpeg":
ATTENDEE;ROLE=REQ-PARTICIPANT;PARTSTAT=ACCEPTED;RSVP=TRUE;CN="SkinDoc 
 MD":https://community.dermrounds.com/profile/SkinDocMD
END:VEVENT
END:VCALENDAR
