BEGIN:VCALENDAR
PRODID:NingEventWidget-v1
VERSION:2.0
METHOD:PUBLISH
BEGIN:VTIMEZONE
TZID:America/Detroit
X-LIC-LOCATION:America/Detroit
BEGIN:DAYLIGHT
TZOFFSETFROM:-0500
TZOFFSETTO:-0400
TZNAME:EDT
DTSTART:19700308T020000
RRULE:FREQ=YEARLY;BYMONTH=3;BYDAY=2SU
END:DAYLIGHT
BEGIN:STANDARD
TZOFFSETFROM:-0400
TZOFFSETTO:-0500
TZNAME:EST
DTSTART:19701101T020000
RRULE:FREQ=YEARLY;BYMONTH=11;BYDAY=1SU
END:STANDARD
END:VTIMEZONE
BEGIN:VEVENT
UID:1980062:Event:51836
DTSTAMP:20260421T134405Z
SUMMARY:47th Annual European Society for Dermatological Research (ESDR
 ) Meeting 2017
DESCRIPTION:“The Sounds of Dermatology” is the motto of the 47th A
 nnual Meeting of the ESDR in Salzburg 2017.The major goal of the ESDR 
 is to excel skin research through scientific exchange and education. T
 he 2017 program strives to be particularly attractive to trainees of a
 ll levels and to early career skin scientists. The annual scientific m
 eeting of the ESDR has a central role in this endeavor by providing a 
 world leading platform for the presentation and discussion of state of
  the art science as it relates to skin biology. The program includes n
 amed orations from outstanding globally recognized scientists, plenary
  educational events such as Frontiers in Skin Biology and Dermatology,
  workshops, symposia and free communications covering all aspects of s
 kin science extending from genetic discovery through to clinical resea
 rch. In all this, the ESDR aims to disseminate information about cutti
 ng edge technology and new approaches to scientific discovery. ESDR is
  committed to fostering a culture where scientists and clinicians can 
 get together, exchange ideas and form new collaborations in a convivia
 l and stimulating environment. The organizers strongly encourage speci
 al interest groups to hold satellite meetings at ESDR so that the full
  breadth of essential expertise is present at the meeting. Recognizing
  the importance of the translational biomedical research agenda the or
 ganizers bring together academia and biopharma and include dedicated s
 essions discussing many aspects of drug discovery and clinical validat
 ion. Finally, social program is geared towards creating an environment
  allowing exchange of ideas and the meeting of old and new friends.\n\
 nFor more information visit https://community.dermrounds.com/events/47
 th-annual-european-society-for-dermatological-research-esdr
DTSTART;TZID=America/Detroit:20170927T000000
DTEND;TZID=America/Detroit:20170930T235900
CATEGORIES:meeting
LOCATION:Salzburg, Austria
WEBSITE:http://www.esdr2017.org/
URL:http://www.esdr2017.org/
CONTACT:
ORGANIZER:
ATTACH;FMTTYPE="image/jpeg":
ATTENDEE;ROLE=REQ-PARTICIPANT;PARTSTAT=ACCEPTED;RSVP=TRUE;CN="SkinDoc 
 MD":https://community.dermrounds.com/profile/SkinDocMD
END:VEVENT
END:VCALENDAR
