BEGIN:VCALENDAR
PRODID:NingEventWidget-v1
VERSION:2.0
METHOD:PUBLISH
BEGIN:VTIMEZONE
TZID:America/Detroit
X-LIC-LOCATION:America/Detroit
BEGIN:DAYLIGHT
TZOFFSETFROM:-0500
TZOFFSETTO:-0400
TZNAME:EDT
DTSTART:19700308T020000
RRULE:FREQ=YEARLY;BYMONTH=3;BYDAY=2SU
END:DAYLIGHT
BEGIN:STANDARD
TZOFFSETFROM:-0400
TZOFFSETTO:-0500
TZNAME:EST
DTSTART:19701101T020000
RRULE:FREQ=YEARLY;BYMONTH=11;BYDAY=1SU
END:STANDARD
END:VTIMEZONE
BEGIN:VEVENT
UID:1980062:Event:51863
DTSTAMP:20260421T204138Z
SUMMARY:4th Annual ASDP Essentials of Dermatopathology Board Review & 
 MOC Course
DESCRIPTION:The 4th Annual ASDP Essentials of Dermatopathology Board R
 eview & MOC Course is a comprehensive weekend course designed to help 
 dermatopathology, dermatology and pathology trainees prepare for their
  dermatopathology and dermatology boards. This course also serves as a
  refresher for practicing dermatopathologists.\n\nFor more information
  visit https://community.dermrounds.com/events/4th-annual-asdp-essenti
 als-of-dermatopathology-board-review-moc
DTSTART;TZID=America/Detroit:20170428T000000
DTEND;TZID=America/Detroit:20170430T000000
CATEGORIES:course
LOCATION:JW Marriott Houston Downtown, Texas
WEBSITE:http://www.asdp.org/BRC
URL:http://www.asdp.org/BRC
CONTACT:847-686-2231
ORGANIZER:American Society of Dermatopathology
ATTACH;FMTTYPE="image/jpeg":
ATTENDEE;ROLE=REQ-PARTICIPANT;PARTSTAT=ACCEPTED;RSVP=TRUE;CN="SkinDoc 
 MD":https://community.dermrounds.com/profile/SkinDocMD
END:VEVENT
END:VCALENDAR
