BEGIN:VCALENDAR
PRODID:NingEventWidget-v1
VERSION:2.0
METHOD:PUBLISH
BEGIN:VTIMEZONE
TZID:America/Detroit
X-LIC-LOCATION:America/Detroit
BEGIN:DAYLIGHT
TZOFFSETFROM:-0500
TZOFFSETTO:-0400
TZNAME:EDT
DTSTART:19700308T020000
RRULE:FREQ=YEARLY;BYMONTH=3;BYDAY=2SU
END:DAYLIGHT
BEGIN:STANDARD
TZOFFSETFROM:-0400
TZOFFSETTO:-0500
TZNAME:EST
DTSTART:19701101T020000
RRULE:FREQ=YEARLY;BYMONTH=11;BYDAY=1SU
END:STANDARD
END:VTIMEZONE
BEGIN:VEVENT
UID:1980062:Event:51692
DTSTAMP:20260421T072354Z
SUMMARY:62nd Annual Meeting of the Georgia Society of Dermatology and 
 Dermatologic
DESCRIPTION:The Annual Meeting of the Georgia Society of Dermatology a
 nd Dermatologic Surgery is an activity designed for Dermatologists, De
 rmatologic Surgeons, Dermatopathologists and other interested healthca
 re providers. The activity is presented in a live medium format, using
  didactic, case based and interactive instructional methods. The purpo
 se is to provide the latest advancements in diagnosis and treatment, a
 nd medical issues important to the evolving practice of dermatology, w
 ith a specific concentration on the most advanced medical and surgical
  treatment options within the various dermatologic specialties.\n\nFor
  more information visit https://community.dermrounds.com/events/62nd-a
 nnual-meeting-of-the-georgia-society-of-dermatology-and
DTSTART;TZID=America/Detroit:20170602T000000
DTEND;TZID=America/Detroit:20170606T000000
CATEGORIES:annual, meeting
LOCATION:The Cloister at Sea Island, Georgia
WEBSITE:http://www.gaderm.org
URL:http://www.gaderm.org
CONTACT:14043105866
ORGANIZER:GSDDS
ATTACH;FMTTYPE="image/jpeg":
ATTENDEE;ROLE=REQ-PARTICIPANT;PARTSTAT=ACCEPTED;RSVP=TRUE;CN="SkinDoc 
 MD":https://community.dermrounds.com/profile/SkinDocMD
END:VEVENT
END:VCALENDAR
