BEGIN:VCALENDAR
PRODID:NingEventWidget-v1
VERSION:2.0
METHOD:PUBLISH
BEGIN:VTIMEZONE
TZID:America/Detroit
X-LIC-LOCATION:America/Detroit
BEGIN:DAYLIGHT
TZOFFSETFROM:-0500
TZOFFSETTO:-0400
TZNAME:EDT
DTSTART:19700308T020000
RRULE:FREQ=YEARLY;BYMONTH=3;BYDAY=2SU
END:DAYLIGHT
BEGIN:STANDARD
TZOFFSETFROM:-0400
TZOFFSETTO:-0500
TZNAME:EST
DTSTART:19701101T020000
RRULE:FREQ=YEARLY;BYMONTH=11;BYDAY=1SU
END:STANDARD
END:VTIMEZONE
BEGIN:VEVENT
UID:1980062:Event:51596
DTSTAMP:20260421T065324Z
SUMMARY:69th Annual Meeting (Pacific Dermatologic Association)
DESCRIPTION:69th Annual Meeting (Pacific Dermatologic Association) wil
 l  be held in 2 New Montgomery St. San Franciso from 16-20 August. W
 elcome!\n\nFor more information visit https://community.dermrounds.com
 /events/69th-annual-meeting-pacific-dermatologic-association
DTSTART;TZID=America/Detroit:20170816T000000
DTEND;TZID=America/Detroit:20170820T000000
CATEGORIES:annual, meeting
LOCATION:Palace Hotel, California
WEBSITE:http://www.pacificderm.or
URL:http://www.pacificderm.or
CONTACT:18883888815
ORGANIZER:
ATTACH;FMTTYPE="image/jpeg":
ATTENDEE;ROLE=REQ-PARTICIPANT;PARTSTAT=ACCEPTED;RSVP=TRUE;CN="SkinDoc 
 MD":https://community.dermrounds.com/profile/SkinDocMD
END:VEVENT
END:VCALENDAR
