BEGIN:VCALENDAR
PRODID:NingEventWidget-v1
VERSION:2.0
METHOD:PUBLISH
BEGIN:VTIMEZONE
TZID:America/Detroit
X-LIC-LOCATION:America/Detroit
BEGIN:DAYLIGHT
TZOFFSETFROM:-0500
TZOFFSETTO:-0400
TZNAME:EDT
DTSTART:19700308T020000
RRULE:FREQ=YEARLY;BYMONTH=3;BYDAY=2SU
END:DAYLIGHT
BEGIN:STANDARD
TZOFFSETFROM:-0400
TZOFFSETTO:-0500
TZNAME:EST
DTSTART:19701101T020000
RRULE:FREQ=YEARLY;BYMONTH=11;BYDAY=1SU
END:STANDARD
END:VTIMEZONE
BEGIN:VEVENT
UID:1980062:Event:51948
DTSTAMP:20260421T204522Z
SUMMARY:7th Annual Summit in Aesthetic Medicine®
DESCRIPTION:After completing this live activity, participants should b
 e better able to:\n\nCompare and contrast the efficacy and safety of a
 gents, devices, and techniques currently available in aesthetic and pr
 ocedural dermatology.\nSummarize new and emerging technologies for las
 er surgery as well as proper procedure when performing laser surgery.\
 nExamine energy-based technology for body contouring and discuss appro
 priate patient selection criteria for utilizing these devices.\nIdenti
 fy essential factors in selecting appropriate filler agents for treati
 ng different areas of the face and targeted plantar depths.\nUtilize t
 he appropriate nonsurgical techniques for facial rejuvenation based on
  an enhanced understanding of facial anatomy and for the most effectiv
 e patient outcome.\nFormulate approaches to the challenges of hair los
 s.\nDemonstrate knowledge of anatomy and in respect to changes in skin
 , muscle, fat and bone that occur with age.\n\n\nFor more information 
 visit https://community.dermrounds.com/events/7th-annual-summit-in-aes
 thetic-medicine
DTSTART;TZID=America/Detroit:20170505T000000
DTEND;TZID=America/Detroit:20170506T235900
CATEGORIES:meeting
LOCATION:Newport Beach, California 92660, United States
WEBSITE:http://www.globalacademycme.com/cme-topics/skin-disease-educat
 ion-foundation-dermatology/conferences/7th-annual-summit-in-aesthetic-
 medicine/conference-overview.html
URL:http://www.globalacademycme.com/cme-topics/skin-disease-education-
 foundation-dermatology/conferences/7th-annual-summit-in-aesthetic-medi
 cine/conference-overview.html
CONTACT:
ORGANIZER:
ATTACH;FMTTYPE="image/jpeg":
ATTENDEE;ROLE=REQ-PARTICIPANT;PARTSTAT=ACCEPTED;RSVP=TRUE;CN="SkinDoc 
 MD":https://community.dermrounds.com/profile/SkinDocMD
END:VEVENT
END:VCALENDAR
