BEGIN:VCALENDAR
PRODID:NingEventWidget-v1
VERSION:2.0
METHOD:PUBLISH
BEGIN:VTIMEZONE
TZID:America/Detroit
X-LIC-LOCATION:America/Detroit
BEGIN:DAYLIGHT
TZOFFSETFROM:-0500
TZOFFSETTO:-0400
TZNAME:EDT
DTSTART:19700308T020000
RRULE:FREQ=YEARLY;BYMONTH=3;BYDAY=2SU
END:DAYLIGHT
BEGIN:STANDARD
TZOFFSETFROM:-0400
TZOFFSETTO:-0500
TZNAME:EST
DTSTART:19701101T020000
RRULE:FREQ=YEARLY;BYMONTH=11;BYDAY=1SU
END:STANDARD
END:VTIMEZONE
BEGIN:VEVENT
UID:1980062:Event:30341
DTSTAMP:20260421T112452Z
SUMMARY:8th World Congress of Melanoma
DESCRIPTION:topic: skin carcinoma\n\nFor more information visit https:
 //community.dermrounds.com/events/8th-world-congress-of-melanoma
DTSTART;TZID=America/Detroit:20130718T000000
DTEND;TZID=America/Detroit:20130720T235900
CATEGORIES:x1
LOCATION:Congress Center Hamburg (CCH)
WEBSITE:http://www.worldmelanoma2013.com
URL:http://www.worldmelanoma2013.com
CONTACT:+49 (0)30/20 45 90
ORGANIZER;CN="Dermatology CME Planner":https://community.dermrounds.co
 m/profile/DermatologyCMEPlanner
ATTACH;FMTTYPE="image/jpeg":
ATTENDEE;ROLE=REQ-PARTICIPANT;PARTSTAT=ACCEPTED;RSVP=TRUE;CN="Dermatol
 ogy CME Planner":https://community.dermrounds.com/profile/DermatologyC
 MEPlanner
END:VEVENT
END:VCALENDAR
