BEGIN:VCALENDAR
PRODID:NingEventWidget-v1
VERSION:2.0
METHOD:PUBLISH
BEGIN:VTIMEZONE
TZID:America/Detroit
X-LIC-LOCATION:America/Detroit
BEGIN:DAYLIGHT
TZOFFSETFROM:-0500
TZOFFSETTO:-0400
TZNAME:EDT
DTSTART:19700308T020000
RRULE:FREQ=YEARLY;BYMONTH=3;BYDAY=2SU
END:DAYLIGHT
BEGIN:STANDARD
TZOFFSETFROM:-0400
TZOFFSETTO:-0500
TZNAME:EST
DTSTART:19701101T020000
RRULE:FREQ=YEARLY;BYMONTH=11;BYDAY=1SU
END:STANDARD
END:VTIMEZONE
BEGIN:VEVENT
UID:1980062:Event:51713
DTSTAMP:20260421T201209Z
SUMMARY:9th World Congress of Melanoma
DESCRIPTION:Congress PresidentsProfessor H. Peter SoyerProfessor B. Ma
 rk SmithersProfessor Jeff Dunn AO\n\nFor more information visit https:
 //community.dermrounds.com/events/9th-world-congress-of-melanoma
DTSTART;TZID=America/Detroit:20171018T000000
DTEND;TZID=America/Detroit:20171021T000000
CATEGORIES:congress
LOCATION:Brisbane Convention and Exhibition Centre
WEBSITE:http://www.worldmelanoma2017.com
URL:http://www.worldmelanoma2017.com
CONTACT:12223333333
ORGANIZER:MCI Deutschland GmbH/MCI Berlin Office
ATTACH;FMTTYPE="image/jpeg":
ATTENDEE;ROLE=REQ-PARTICIPANT;PARTSTAT=ACCEPTED;RSVP=TRUE;CN="SkinDoc 
 MD":https://community.dermrounds.com/profile/SkinDocMD
END:VEVENT
END:VCALENDAR
