BEGIN:VCALENDAR
PRODID:NingEventWidget-v1
VERSION:2.0
METHOD:PUBLISH
BEGIN:VTIMEZONE
TZID:America/Detroit
X-LIC-LOCATION:America/Detroit
BEGIN:DAYLIGHT
TZOFFSETFROM:-0500
TZOFFSETTO:-0400
TZNAME:EDT
DTSTART:19700308T020000
RRULE:FREQ=YEARLY;BYMONTH=3;BYDAY=2SU
END:DAYLIGHT
BEGIN:STANDARD
TZOFFSETFROM:-0400
TZOFFSETTO:-0500
TZNAME:EST
DTSTART:19701101T020000
RRULE:FREQ=YEARLY;BYMONTH=11;BYDAY=1SU
END:STANDARD
END:VTIMEZONE
BEGIN:VEVENT
UID:1980062:Event:52042
DTSTAMP:20260421T063329Z
SUMMARY:Aesthetics at the Red Sea International Meeting
DESCRIPTION:The Meeting in Eilat will focus on Aesthetics and the invi
 ted faculty will include world renowned speakers from the four core sp
 ecialties: Plastic Surgery, Facial Plastic Surgery, Dermatology and Oc
 uloplastics. The meeting will consist of two components: Facial Aesthe
 tics and the ISAPS Symposium on Breast and Body Contouring Surgery.\n\
 nFor more information visit https://community.dermrounds.com/events/ae
 sthetics-at-the-red-sea-international-meeting
DTSTART;TZID=America/Detroit:20170329T000000
DTEND;TZID=America/Detroit:20170401T235900
CATEGORIES:meeting
LOCATION:Eilat, Israel
WEBSITE:http://www.redseaplastics2017.com/index.ehtml
URL:http://www.redseaplastics2017.com/index.ehtml
CONTACT:
ORGANIZER:
ATTACH;FMTTYPE="image/jpeg":
ATTENDEE;ROLE=REQ-PARTICIPANT;PARTSTAT=ACCEPTED;RSVP=TRUE;CN="SkinDoc 
 MD":https://community.dermrounds.com/profile/SkinDocMD
END:VEVENT
END:VCALENDAR
