BEGIN:VCALENDAR
PRODID:NingEventWidget-v1
VERSION:2.0
METHOD:PUBLISH
BEGIN:VTIMEZONE
TZID:America/Detroit
X-LIC-LOCATION:America/Detroit
BEGIN:DAYLIGHT
TZOFFSETFROM:-0500
TZOFFSETTO:-0400
TZNAME:EDT
DTSTART:19700308T020000
RRULE:FREQ=YEARLY;BYMONTH=3;BYDAY=2SU
END:DAYLIGHT
BEGIN:STANDARD
TZOFFSETFROM:-0400
TZOFFSETTO:-0500
TZNAME:EST
DTSTART:19701101T020000
RRULE:FREQ=YEARLY;BYMONTH=11;BYDAY=1SU
END:STANDARD
END:VTIMEZONE
BEGIN:VEVENT
UID:1980062:Event:30461
DTSTAMP:20260421T061715Z
SUMMARY:American Academy of Dermatology Fall Board of Directors Meetin
 g - Prior Approval Necessary to Attend
DESCRIPTION:Fall Board of Directors Meeting\n\nFor more information vi
 sit https://community.dermrounds.com/events/american-academy-of-dermat
 ology-fall-board-of-directors-meeting
DTSTART;TZID=America/Detroit:20121103T080000
DTEND;TZID=America/Detroit:20121103T160000
CATEGORIES:x1
LOCATION:X2
WEBSITE:
URL:
CONTACT:847-240-1097
ORGANIZER;CN="Dermatology CME Planner":https://community.dermrounds.co
 m/profile/DermatologyCMEPlanner
ATTACH;FMTTYPE="image/jpeg":
ATTENDEE;ROLE=REQ-PARTICIPANT;PARTSTAT=ACCEPTED;RSVP=TRUE;CN="Dermatol
 ogy CME Planner":https://community.dermrounds.com/profile/DermatologyC
 MEPlanner
END:VEVENT
END:VCALENDAR
