BEGIN:VCALENDAR
PRODID:NingEventWidget-v1
VERSION:2.0
METHOD:PUBLISH
BEGIN:VTIMEZONE
TZID:America/Detroit
X-LIC-LOCATION:America/Detroit
BEGIN:DAYLIGHT
TZOFFSETFROM:-0500
TZOFFSETTO:-0400
TZNAME:EDT
DTSTART:19700308T020000
RRULE:FREQ=YEARLY;BYMONTH=3;BYDAY=2SU
END:DAYLIGHT
BEGIN:STANDARD
TZOFFSETFROM:-0400
TZOFFSETTO:-0500
TZNAME:EST
DTSTART:19701101T020000
RRULE:FREQ=YEARLY;BYMONTH=11;BYDAY=1SU
END:STANDARD
END:VTIMEZONE
BEGIN:VEVENT
UID:1980062:Event:30546
DTSTAMP:20260423T044709Z
SUMMARY:American Society for Mohs Surgery The Closure Course
DESCRIPTION:Developed in response to requests by dermatologists who ha
 d attended the ASMS Fundamentals of Mohs Surgery course in the past. C
 losure course represents 2 days of intensive didactics that will focus
  on closure considerations for dermatologists who are already performi
 ng skin surgery (including Mohs) and whose primary interest is improvi
 ng their techniques for closing surgical defects.\n\nFor more informat
 ion visit https://community.dermrounds.com/events/american-society-for
 -mohs-surgery-the-closure-course
DTSTART;TZID=America/Detroit:20121106T000000
DTEND;TZID=America/Detroit:20121107T235900
CATEGORIES:aad, category, 1, recognized, and, ama, accredited
LOCATION:DoubleTree Hotel San Diego, Mission Valley
WEBSITE:http://www.mohssurgery.org
URL:http://www.mohssurgery.org
CONTACT:800-616-ASMS (2767)
ORGANIZER;CN="Dermatology CME Planner":https://community.dermrounds.co
 m/profile/DermatologyCMEPlanner
ATTACH;FMTTYPE="image/jpeg":
ATTENDEE;ROLE=REQ-PARTICIPANT;PARTSTAT=ACCEPTED;RSVP=TRUE;CN="Dermatol
 ogy CME Planner":https://community.dermrounds.com/profile/DermatologyC
 MEPlanner
END:VEVENT
END:VCALENDAR
