BEGIN:VCALENDAR
PRODID:NingEventWidget-v1
VERSION:2.0
METHOD:PUBLISH
BEGIN:VTIMEZONE
TZID:America/Detroit
X-LIC-LOCATION:America/Detroit
BEGIN:DAYLIGHT
TZOFFSETFROM:-0500
TZOFFSETTO:-0400
TZNAME:EDT
DTSTART:19700308T020000
RRULE:FREQ=YEARLY;BYMONTH=3;BYDAY=2SU
END:DAYLIGHT
BEGIN:STANDARD
TZOFFSETFROM:-0400
TZOFFSETTO:-0500
TZNAME:EST
DTSTART:19701101T020000
RRULE:FREQ=YEARLY;BYMONTH=11;BYDAY=1SU
END:STANDARD
END:VTIMEZONE
BEGIN:VEVENT
UID:1980062:Event:51875
DTSTAMP:20260422T020731Z
SUMMARY:ASDP 54th Annual Meeting
DESCRIPTION:The annual meeting offers dermatologists, pathologists, fe
 llows, residents and medical students lectures on current topics in de
 rmatopathology, interactive sessions at the microscope, a self-assessm
 ent course, and opportunities for poster and oral abstract presentatio
 ns.\n\nFor more information visit https://community.dermrounds.com/eve
 nts/asdp-54th-annual-meeting
DTSTART;TZID=America/Detroit:20171026T000000
DTEND;TZID=America/Detroit:20171029T000000
CATEGORIES:annual, meeting
LOCATION:Marriott Baltimore Waterfront Hotel, Maryland
WEBSITE:http://www.asdp.org/AM17
URL:http://www.asdp.org/AM17
CONTACT:847-686-2231
ORGANIZER:American Society of Dermatopathology
ATTACH;FMTTYPE="image/jpeg":
ATTENDEE;ROLE=REQ-PARTICIPANT;PARTSTAT=ACCEPTED;RSVP=TRUE;CN="SkinDoc 
 MD":https://community.dermrounds.com/profile/SkinDocMD
END:VEVENT
END:VCALENDAR
