BEGIN:VCALENDAR
PRODID:NingEventWidget-v1
VERSION:2.0
METHOD:PUBLISH
BEGIN:VTIMEZONE
TZID:America/Detroit
X-LIC-LOCATION:America/Detroit
BEGIN:DAYLIGHT
TZOFFSETFROM:-0500
TZOFFSETTO:-0400
TZNAME:EDT
DTSTART:19700308T020000
RRULE:FREQ=YEARLY;BYMONTH=3;BYDAY=2SU
END:DAYLIGHT
BEGIN:STANDARD
TZOFFSETFROM:-0400
TZOFFSETTO:-0500
TZNAME:EST
DTSTART:19701101T020000
RRULE:FREQ=YEARLY;BYMONTH=11;BYDAY=1SU
END:STANDARD
END:VTIMEZONE
BEGIN:VEVENT
UID:1980062:Event:51716
DTSTAMP:20260421T231950Z
SUMMARY:Association of Professors of Dermatology Annual Meeting
DESCRIPTION:The Association of Professors of Dermatology (APD) was est
 ablished in 1960 by leading educators in dermatology. The initial purp
 ose of the organization—which remains much the same today—was the 
 promotion of medical education, research, and patient care, particular
 ly in undergraduate and graduate dermatology training programs. The AP
 D Annual Meeting is a unique opportunity to engage with colleagues and
  experts across the scope of academic dermatology. Keynote presentatio
 ns and thought-provoking sessions provide the focal points for transla
 ting knowledge into action. Sessions are organized to equip learners w
 ith the tools and ideas to implement and share at your institution. In
 cludes Administrators and Surgeon breakouts.\n\nFor more information v
 isit https://community.dermrounds.com/events/association-of-professors
 -of-dermatology-annual-meeting
DTSTART;TZID=America/Detroit:20171020T000000
DTEND;TZID=America/Detroit:20171021T000000
CATEGORIES:annual, meeting
LOCATION:The Westin Michigan Avenue, Illinois
WEBSITE:http://www.dermatologyprofessors.org
URL:http://www.dermatologyprofessors.org
CONTACT:770-613-0932
ORGANIZER:Association of Professors of Dermatology
ATTACH;FMTTYPE="image/jpeg":
ATTENDEE;ROLE=REQ-PARTICIPANT;PARTSTAT=ACCEPTED;RSVP=TRUE;CN="SkinDoc 
 MD":https://community.dermrounds.com/profile/SkinDocMD
END:VEVENT
END:VCALENDAR
