BEGIN:VCALENDAR
PRODID:NingEventWidget-v1
VERSION:2.0
METHOD:PUBLISH
BEGIN:VTIMEZONE
TZID:America/Detroit
X-LIC-LOCATION:America/Detroit
BEGIN:DAYLIGHT
TZOFFSETFROM:-0500
TZOFFSETTO:-0400
TZNAME:EDT
DTSTART:19700308T020000
RRULE:FREQ=YEARLY;BYMONTH=3;BYDAY=2SU
END:DAYLIGHT
BEGIN:STANDARD
TZOFFSETFROM:-0400
TZOFFSETTO:-0500
TZNAME:EST
DTSTART:19701101T020000
RRULE:FREQ=YEARLY;BYMONTH=11;BYDAY=1SU
END:STANDARD
END:VTIMEZONE
BEGIN:VEVENT
UID:1980062:Event:51909
DTSTAMP:20260421T110508Z
SUMMARY:Biologic Therapies VII Summit: Precision Medicine in the Biolo
 gic Era
DESCRIPTION:Biologic Therapies VII Summit is an advanced course that b
 rings together world leaders in immune-based therapies and addresses c
 utting-edge translational immunology and the latest data on biologic t
 herapeutics. This year’s Summit will focus on precision medicine and
  kicks off with a fundamental immunologic plenary session, reviewing r
 ecent basic laboratory breakthroughs in terms of their potential clini
 cal implications. The Biologic Crossfire session will provide critical
  insights into new pathways and shared challenges for multiple discipl
 ines engaged in the use of biologic therapies.Objectives\n\nDescribe r
 ecent advances in biologic drug development, regulations, and indicati
 ons in immune-mediated inflammatory diseases (IMIDs).\nCritically appr
 aise data on genetics and personalized medicine as applied to rheumati
 c diseases and IMIDs.\nAnalyze recent investigations on efficacy and t
 oxicity of biologic agents across IMIDS.\nDetail current knowledge rel
 ated to predicting outcomes in patients with rheumatoid arthritis (RA)
 .\nSummarize updates in diagnosis, classification, therapies, and immu
 ne-system targets in both psoriatic arthritis (PsA) and spondyloarthop
 athies (SpA) and describe their clinical implications.\nCritically ass
 ess clinical data on biologic use in immune-related diseases in the ar
 eas of pulmonary disease, dermatology, metabolic bone diseases, and sy
 stemic lupus erythematosus (SLE).\nDevelop strategies to predict, prev
 ent, and treat comorbid complications of biologic therapy including ca
 rdiovascular disease and serious infections.\n\n\nFor more information
  visit https://community.dermrounds.com/events/biologic-therapies-vii-
 summit-precision-medicine-in-the-biologic
DTSTART;TZID=America/Detroit:20170406T000000
DTEND;TZID=America/Detroit:20170408T235900
CATEGORIES:conference
LOCATION:Cleveland, Ohio 44106, United States
WEBSITE:http://www.clevelandclinicmeded.com/live/courses/Bio/overview-
 bio.asp
URL:http://www.clevelandclinicmeded.com/live/courses/Bio/overview-bio.
 asp
CONTACT:
ORGANIZER:
ATTACH;FMTTYPE="image/jpeg":
ATTENDEE;ROLE=REQ-PARTICIPANT;PARTSTAT=ACCEPTED;RSVP=TRUE;CN="SkinDoc 
 MD":https://community.dermrounds.com/profile/SkinDocMD
END:VEVENT
END:VCALENDAR
