BEGIN:VCALENDAR
PRODID:NingEventWidget-v1
VERSION:2.0
METHOD:PUBLISH
BEGIN:VTIMEZONE
TZID:America/Detroit
X-LIC-LOCATION:America/Detroit
BEGIN:DAYLIGHT
TZOFFSETFROM:-0500
TZOFFSETTO:-0400
TZNAME:EDT
DTSTART:19700308T020000
RRULE:FREQ=YEARLY;BYMONTH=3;BYDAY=2SU
END:DAYLIGHT
BEGIN:STANDARD
TZOFFSETFROM:-0400
TZOFFSETTO:-0500
TZNAME:EST
DTSTART:19701101T020000
RRULE:FREQ=YEARLY;BYMONTH=11;BYDAY=1SU
END:STANDARD
END:VTIMEZONE
BEGIN:VEVENT
UID:1980062:Event:51576
DTSTAMP:20260421T003021Z
SUMMARY:Comprehensive Dermatology and Dermatologic Surgery Update (Flo
 rida Society of Dermatology and Dermatologic Surgery Annual Meeting)
DESCRIPTION:Join the Florida Society of Dermatology and Dermatologic 
 Surgery at their 87th annual meeting focusing on trends and techniques
  in dermatology and dermatologic surgery.Find more information at FSDD
 S.ORG.\n\nFor more information visit https://community.dermrounds.com/
 events/comprehensive-dermatology-and-dermatologic-surgery-update-flori
 da
DTSTART;TZID=America/Detroit:20170616T000000
DTEND;TZID=America/Detroit:20170618T000000
CATEGORIES:meeting
LOCATION:Diplomat Resort and Spa, Florida
WEBSITE:http://fsdds.org
URL:http://fsdds.org
CONTACT:904-880-0023
ORGANIZER:Florida Society of Dermatology and Dermatologic Surgery
ATTACH;FMTTYPE="image/jpeg":
ATTENDEE;ROLE=REQ-PARTICIPANT;PARTSTAT=ACCEPTED;RSVP=TRUE;CN="SkinDoc 
 MD":https://community.dermrounds.com/profile/SkinDocMD
END:VEVENT
END:VCALENDAR
