BEGIN:VCALENDAR
PRODID:NingEventWidget-v1
VERSION:2.0
METHOD:PUBLISH
BEGIN:VTIMEZONE
TZID:America/Detroit
X-LIC-LOCATION:America/Detroit
BEGIN:DAYLIGHT
TZOFFSETFROM:-0500
TZOFFSETTO:-0400
TZNAME:EDT
DTSTART:19700308T020000
RRULE:FREQ=YEARLY;BYMONTH=3;BYDAY=2SU
END:DAYLIGHT
BEGIN:STANDARD
TZOFFSETFROM:-0400
TZOFFSETTO:-0500
TZNAME:EST
DTSTART:19701101T020000
RRULE:FREQ=YEARLY;BYMONTH=11;BYDAY=1SU
END:STANDARD
END:VTIMEZONE
BEGIN:VEVENT
UID:1980062:Event:51579
DTSTAMP:20260420T211644Z
SUMMARY:Cosmetic Bootcamp 2017
DESCRIPTION:Cosmetic Bootcamp is committed to training and supporting 
 core aesthetic physicians. Each summer we create a collegial environme
 nt where speciality physicians in the fields of Dermatology, Plastic S
 urgery, Ophthalmology and Otolaryngology congregate, share knowledge a
 nd together shape the future of Aesthetic Medicine\n\nFor more informa
 tion visit https://community.dermrounds.com/events/cosmetic-bootcamp-2
 017
DTSTART;TZID=America/Detroit:20170622T000000
DTEND;TZID=America/Detroit:20170625T000000
CATEGORIES:bootcamp
LOCATION:St Regis Resort Aspen
WEBSITE:http://cosmeticbootcamp.com/summer-bootcamp/
URL:http://cosmeticbootcamp.com/summer-bootcamp/
CONTACT:1-877-809-7525
ORGANIZER:Meeting Designs, LLC
ATTACH;FMTTYPE="image/jpeg":
ATTENDEE;ROLE=REQ-PARTICIPANT;PARTSTAT=ACCEPTED;RSVP=TRUE;CN="SkinDoc 
 MD":https://community.dermrounds.com/profile/SkinDocMD
END:VEVENT
END:VCALENDAR
