BEGIN:VCALENDAR
PRODID:NingEventWidget-v1
VERSION:2.0
METHOD:PUBLISH
BEGIN:VTIMEZONE
TZID:America/Detroit
X-LIC-LOCATION:America/Detroit
BEGIN:DAYLIGHT
TZOFFSETFROM:-0500
TZOFFSETTO:-0400
TZNAME:EDT
DTSTART:19700308T020000
RRULE:FREQ=YEARLY;BYMONTH=3;BYDAY=2SU
END:DAYLIGHT
BEGIN:STANDARD
TZOFFSETFROM:-0400
TZOFFSETTO:-0500
TZNAME:EST
DTSTART:19701101T020000
RRULE:FREQ=YEARLY;BYMONTH=11;BYDAY=1SU
END:STANDARD
END:VTIMEZONE
BEGIN:VEVENT
UID:1980062:Event:51702
DTSTAMP:20260420T211521Z
SUMMARY:DEF Essential Resource Meeting 2017 CME Conference for PAs and
  NPs
DESCRIPTION:The Dermatology Education Foundation, a 501(c)(3) non-prof
 it organization, proudly introduces the return of DERM2017 NP/PA CME C
 onference – The Clinically Relevant and Practical Case-Based Dermato
 logy NP and PA CME Education Experience™.\n\nFor more information vi
 sit https://community.dermrounds.com/events/def-essential-resource-mee
 ting-2017-cme-conference-for-pas-and
DTSTART;TZID=America/Detroit:20170720T000000
DTEND;TZID=America/Detroit:20170723T000000
CATEGORIES:meeting
LOCATION:Wynn Las Vegas, Nevada
WEBSITE:http://www.dermnppa.org
URL:http://www.dermnppa.org
CONTACT:973-783-4575
ORGANIZER:Physician Resources, LLC
ATTACH;FMTTYPE="image/jpeg":
ATTENDEE;ROLE=REQ-PARTICIPANT;PARTSTAT=ACCEPTED;RSVP=TRUE;CN="SkinDoc 
 MD":https://community.dermrounds.com/profile/SkinDocMD
END:VEVENT
END:VCALENDAR
