BEGIN:VCALENDAR
PRODID:NingEventWidget-v1
VERSION:2.0
METHOD:PUBLISH
BEGIN:VTIMEZONE
TZID:America/Detroit
X-LIC-LOCATION:America/Detroit
BEGIN:DAYLIGHT
TZOFFSETFROM:-0500
TZOFFSETTO:-0400
TZNAME:EDT
DTSTART:19700308T020000
RRULE:FREQ=YEARLY;BYMONTH=3;BYDAY=2SU
END:DAYLIGHT
BEGIN:STANDARD
TZOFFSETFROM:-0400
TZOFFSETTO:-0500
TZNAME:EST
DTSTART:19701101T020000
RRULE:FREQ=YEARLY;BYMONTH=11;BYDAY=1SU
END:STANDARD
END:VTIMEZONE
BEGIN:VEVENT
UID:1980062:Event:51699
DTSTAMP:20260421T025144Z
SUMMARY:Dermatology: Principles and Practice Strategies for the Primar
 y Care Office
DESCRIPTION:American Medical Seminars, Inc. presents 21-25 live Primar
 y Care Medical Seminars in Sarasota, Florida each year. Our CME course
 s are Commercial Free and are approved for 20 AMA PRA Category 1 Credi
 ts™. CME Courses, to include topics, objectives and certification ca
 n be found at https://www.americanmedicalseminars.com This CME Activit
 y is designed for Primary Care Practitioners, Internal Medicine, Emerg
 ency Medicine, General Practice, and even Specialists who would like p
 ractical and clinically relevant reviews and updates in Primary Care M
 edicine. Sponsor/Certification: American Medical Seminars, Inc. design
 ates these live activities for a maximum of 20 AMA PRA Category 1 Cred
 itsTM. Physicians should claim only the credit commensurate with the e
 xtent of their participation in the activity. Registration Fees: Physi
 cian Fees: $849.00 Early Registration (30 days prior to start date), $
 899.00 Regular Registration Non Physician/Resident* Fees: $749.00 Earl
 y Registration (30 days prior to start date), $799.00 Regular Registra
 tion\n\nFor more information visit https://community.dermrounds.com/ev
 ents/dermatology-principles-and-practice-strategies-for-the-primary
DTSTART;TZID=America/Detroit:20170612T080000
DTEND;TZID=America/Detroit:20170616T000000
CATEGORIES:seminar
LOCATION:Hyatt Regency Sarasota
WEBSITE:https://www.americanmedicalseminars.com/live-cme-courses/semla
 -3120170612.html
URL:https://www.americanmedicalseminars.com/live-cme-courses/semla-312
 0170612.html
CONTACT:1-866-267-4263
ORGANIZER:American Medical Seminars
ATTACH;FMTTYPE="image/jpeg":
ATTENDEE;ROLE=REQ-PARTICIPANT;PARTSTAT=ACCEPTED;RSVP=TRUE;CN="SkinDoc 
 MD":https://community.dermrounds.com/profile/SkinDocMD
END:VEVENT
END:VCALENDAR
