BEGIN:VCALENDAR
PRODID:NingEventWidget-v1
VERSION:2.0
METHOD:PUBLISH
BEGIN:VTIMEZONE
TZID:America/Detroit
X-LIC-LOCATION:America/Detroit
BEGIN:DAYLIGHT
TZOFFSETFROM:-0500
TZOFFSETTO:-0400
TZNAME:EDT
DTSTART:19700308T020000
RRULE:FREQ=YEARLY;BYMONTH=3;BYDAY=2SU
END:DAYLIGHT
BEGIN:STANDARD
TZOFFSETFROM:-0400
TZOFFSETTO:-0500
TZNAME:EST
DTSTART:19701101T020000
RRULE:FREQ=YEARLY;BYMONTH=11;BYDAY=1SU
END:STANDARD
END:VTIMEZONE
BEGIN:VEVENT
UID:1980062:Event:51824
DTSTAMP:20260420T225641Z
SUMMARY:Dermatopathology: Contemporary Diagnostic Criteria and Strateg
 ies 2017
DESCRIPTION:Nowhere else will you have such an opportunity to benefit 
 from the knowledge of a faculty with a combined experience of one mill
 ion skin biopsy interpretations! You’ll increase your confidence in 
 approaching pigmented lesions, nonmelanoma skin cancer, and inflammato
 ry dermatoses. And you’ll be better able to provide clinicians with 
 the critical information needed to address patient problems.You’ll s
 tart with an overview of problematic melanocytic and nonmelanocytic ne
 oplasms and benefit from tips for avoiding errors in interpretation an
 d reporting. You’ll gain new understanding of mechanisms and pattern
 s of inflammatory lesions of the skin and inflammatory dermatoses. You
 ’ll participate in a discussion of a general clinical approach to in
 flammatory and neoplastic skin disease and the issues of orientation o
 f Mohs surgical specimens, always problematic to dermatopathologists a
 nd general anatomic pathologists. And you’ll stay on the cutting edg
 e with new information about medicolegal implications of diagnosis and
  misdiagnosis, anti-melanoma vaccination,targeted molecular therapy of
  melanoma, direct immunoflurescence microscopy, and much, much more! B
 ring your challenging slides for discussion with the faculty and evalu
 ate your knowledge with self-assessment options.\n\nFor more informati
 on visit https://community.dermrounds.com/events/dermatopathology-cont
 emporary-diagnostic-criteria-and-strategies
DTSTART;TZID=America/Detroit:20170619T000000
DTEND;TZID=America/Detroit:20170623T235900
CATEGORIES:conference
LOCATION:Las Vegas, Nevada 89109, United States
WEBSITE:https://www.ascp.org/store/productlisting/MeetingDetail?produc
 tId=69230599
URL:https://www.ascp.org/store/productlisting/MeetingDetail?productId=
 69230599
CONTACT:
ORGANIZER:
ATTACH;FMTTYPE="image/jpeg":
ATTENDEE;ROLE=REQ-PARTICIPANT;PARTSTAT=ACCEPTED;RSVP=TRUE;CN="SkinDoc 
 MD":https://community.dermrounds.com/profile/SkinDocMD
END:VEVENT
END:VCALENDAR
