BEGIN:VCALENDAR
PRODID:NingEventWidget-v1
VERSION:2.0
METHOD:PUBLISH
BEGIN:VTIMEZONE
TZID:America/Detroit
X-LIC-LOCATION:America/Detroit
BEGIN:DAYLIGHT
TZOFFSETFROM:-0500
TZOFFSETTO:-0400
TZNAME:EDT
DTSTART:19700308T020000
RRULE:FREQ=YEARLY;BYMONTH=3;BYDAY=2SU
END:DAYLIGHT
BEGIN:STANDARD
TZOFFSETFROM:-0400
TZOFFSETTO:-0500
TZNAME:EST
DTSTART:19701101T020000
RRULE:FREQ=YEARLY;BYMONTH=11;BYDAY=1SU
END:STANDARD
END:VTIMEZONE
BEGIN:VEVENT
UID:1980062:Event:30543
DTSTAMP:20260421T074111Z
SUMMARY:Florida Society of Dermatologic Surgeons Advances in Dermatolo
 gic Surgery
DESCRIPTION:A comprehensive update on the advances in dermatologic sur
 gery featuring world renowned national and international speakers.\n\n
 For more information visit https://community.dermrounds.com/events/flo
 rida-society-of-dermatologic-surgeons-advances-in-dermatologic
DTSTART;TZID=America/Detroit:20121102T000000
DTEND;TZID=America/Detroit:20121104T235900
CATEGORIES:aad, category, 1, recognized, and, ama, accredited
LOCATION:The Breakers
WEBSITE:http://www.fsds.org
URL:http://www.fsds.org
CONTACT:904-292-0051
ORGANIZER;CN="Dermatology CME Planner":https://community.dermrounds.co
 m/profile/DermatologyCMEPlanner
ATTACH;FMTTYPE="image/jpeg":
ATTENDEE;ROLE=REQ-PARTICIPANT;PARTSTAT=ACCEPTED;RSVP=TRUE;CN="Dermatol
 ogy CME Planner":https://community.dermrounds.com/profile/DermatologyC
 MEPlanner
END:VEVENT
END:VCALENDAR
