BEGIN:VCALENDAR
PRODID:NingEventWidget-v1
VERSION:2.0
METHOD:PUBLISH
BEGIN:VTIMEZONE
TZID:America/Detroit
X-LIC-LOCATION:America/Detroit
BEGIN:DAYLIGHT
TZOFFSETFROM:-0500
TZOFFSETTO:-0400
TZNAME:EDT
DTSTART:19700308T020000
RRULE:FREQ=YEARLY;BYMONTH=3;BYDAY=2SU
END:DAYLIGHT
BEGIN:STANDARD
TZOFFSETFROM:-0400
TZOFFSETTO:-0500
TZNAME:EST
DTSTART:19701101T020000
RRULE:FREQ=YEARLY;BYMONTH=11;BYDAY=1SU
END:STANDARD
END:VTIMEZONE
BEGIN:VEVENT
UID:1980062:Event:51689
DTSTAMP:20260421T114717Z
SUMMARY:Global Personal Care Market & Regulatory Overview
DESCRIPTION:Cosmetic products are ubiquitous in our daily life. Consum
 ers are bombarded with newer and more attractive product offerings con
 stantly. The cosmetic and toiletry industry continues to enjoy relativ
 ely good standing despite global recession. While traditional strongho
 ld such as Western Europe, Japan, and the US appear to have been near 
 their market saturation, the emerging markets such as Latin America an
 d Asia have been roaring ahead with powerful growth. The former usuall
 y have established fairly sophisticated laws and regulations, while th
 e latter tends to present more challenge as individual countries go th
 rough legislative evolution to integrate better into the global regula
 tory framework.In general, to place a personal care product successful
 ly in today's market requires more than superior formulation and attra
 ctive packaging. Despite years of international effort at harmonizatio
 n, the cosmetic regulation has yet to arrive at a totally harmonized s
 tate, globally. A successful market entry strategy should take into co
 nsideration current market trend & demands, regulatory framework & com
 pliance requirements, scientific findings in the performance, efficacy
  and safety of ingredients/products. This course will provide an overv
 iew of the global cosmetic legislative framework. Key focus is placed 
 on comparing and contrasting cosmetic regulations in major world marke
 ts. Also discussed, is the corresponding C&T market outlook and consum
 er research specifics in each region.\n\nFor more information visit ht
 tps://community.dermrounds.com/events/global-personal-care-market-regu
 latory-overview
DTSTART;TZID=America/Detroit:20170510T090000
DTEND;TZID=America/Detroit:20170512T170000
CATEGORIES:course
LOCATION:The Desmond Hotel & Conference Center, Pennsylvania
WEBSITE:http://www.cfpie.com/ProductDetails.aspx?ProductID=224
URL:http://www.cfpie.com/ProductDetails.aspx?ProductID=224
CONTACT:610-648-7550
ORGANIZER:CfPIE
ATTACH;FMTTYPE="image/jpeg":
ATTENDEE;ROLE=REQ-PARTICIPANT;PARTSTAT=ACCEPTED;RSVP=TRUE;CN="SkinDoc 
 MD":https://community.dermrounds.com/profile/SkinDocMD
END:VEVENT
END:VCALENDAR
