BEGIN:VCALENDAR
PRODID:NingEventWidget-v1
VERSION:2.0
METHOD:PUBLISH
BEGIN:VTIMEZONE
TZID:America/Detroit
X-LIC-LOCATION:America/Detroit
BEGIN:DAYLIGHT
TZOFFSETFROM:-0500
TZOFFSETTO:-0400
TZNAME:EDT
DTSTART:19700308T020000
RRULE:FREQ=YEARLY;BYMONTH=3;BYDAY=2SU
END:DAYLIGHT
BEGIN:STANDARD
TZOFFSETFROM:-0400
TZOFFSETTO:-0500
TZNAME:EST
DTSTART:19701101T020000
RRULE:FREQ=YEARLY;BYMONTH=11;BYDAY=1SU
END:STANDARD
END:VTIMEZONE
BEGIN:VEVENT
UID:1980062:Event:51573
DTSTAMP:20260421T085821Z
SUMMARY:Global Summit on Oncology & Cancer
DESCRIPTION:Conferenceseries LLC welcomes you to attend the Global Sum
 mit on Oncology & Cancer Conference during May 25-27, 2017 Osaka, Japa
 n. We cordially invite all the participants who are interested in shar
 ing their knowledge and research in the arena of Oncology & Cancer. Gl
 obal Cancer 2017 anticipates more than 300 participants around the glo
 be with thought provoking Keynote lectures, Oral and Poster presentati
 ons.\n\nFor more information visit https://community.dermrounds.com/ev
 ents/global-summit-on-oncology-cancer
DTSTART;TZID=America/Detroit:20170525T000000
DTEND;TZID=America/Detroit:20170527T000000
CATEGORIES:conference
LOCATION:Hyatt Regency Osaka,  Japan
WEBSITE:http://globalcancer.conferenceseries.com/
URL:http://globalcancer.conferenceseries.com/
CONTACT:07025085200
ORGANIZER:Conferenceseries LLC
ATTACH;FMTTYPE="image/jpeg":
ATTENDEE;ROLE=REQ-PARTICIPANT;PARTSTAT=ACCEPTED;RSVP=TRUE;CN="SkinDoc 
 MD":https://community.dermrounds.com/profile/SkinDocMD
END:VEVENT
END:VCALENDAR
