BEGIN:VCALENDAR
PRODID:NingEventWidget-v1
VERSION:2.0
METHOD:PUBLISH
BEGIN:VTIMEZONE
TZID:America/Detroit
X-LIC-LOCATION:America/Detroit
BEGIN:DAYLIGHT
TZOFFSETFROM:-0500
TZOFFSETTO:-0400
TZNAME:EDT
DTSTART:19700308T020000
RRULE:FREQ=YEARLY;BYMONTH=3;BYDAY=2SU
END:DAYLIGHT
BEGIN:STANDARD
TZOFFSETFROM:-0400
TZOFFSETTO:-0500
TZNAME:EST
DTSTART:19701101T020000
RRULE:FREQ=YEARLY;BYMONTH=11;BYDAY=1SU
END:STANDARD
END:VTIMEZONE
BEGIN:VEVENT
UID:1980062:Event:51719
DTSTAMP:20260422T065756Z
SUMMARY:GMPs for OTC and Cosmetic Products – US and Global Requireme
 nts
DESCRIPTION:Course runs 9:00 to 5:00 both days (Breakfast & Lunch Incl
 uded)  Personal care products in the US often fall into two regulatory
  product categories regulated by the FDA: the cosmetic and the OTC pro
 ducts. Both are regulated under the Federal Food, Drug and Cosmetic Ac
 t (FFD&C Act). As is required under Section 501(a)(2)(B) of this act, 
 drugs manufactured in the US must conform to current good manufacturin
 g practices (cGMPs), prescription and OTC alike. GMPs outline regulato
 ry requirements for the manufacturing, processing and packaging of pha
 rmaceutical products to ensure their safety and effectiveness. The act
  further stipulates that cosmetics introduced into interstate commerce
  should not be adulterated or misbranded.  The cosmetic good manufactu
 ring practice is a set of manufacturing guidelines to ensure the safet
 y and quality of cosmetic products. Rigorous adherence to good manufac
 turing practice minimizes the risk of adulteration or misbranding of c
 osmetics. This course outlines the international development and harmo
 nization of GMPs relevant to cosmetic and OTC products with detailed d
 iscussion in key areas of concern ranging from the facilities to perso
 nnel to material control to corrective/preventative measures and recor
 dkeeping. Who Should Attend  This course focuses on the regulatory req
 uirements of good manufacturing practices for OTC and cosmetic product
 s in the US while also referencing key international counterpart to pr
 ovide a well rounded world view for the participants. It is designed f
 or professionals in the personal care, cosmetic, chemical application 
 and pharmaceutical industries engaged in all aspects of personal care 
 product development, including the raw material suppliers, in the foll
 owing areas:  Research & Development Technology, Formulation & Product
  Development Marketing & Technical Sales Regulatory Affairs QA & QC Pr
 ofessionals Business Decision Makers\n\nFor more information visit htt
 ps://community.dermrounds.com/events/gmps-for-otc-and-cosmetic-product
 s-us-and-global-requirements-1
DTSTART;TZID=America/Detroit:20171106T090000
DTEND;TZID=America/Detroit:20171107T170000
CATEGORIES:course
LOCATION:Hilton Los Angeles Airport, California
WEBSITE:http://www.cfpie.com/ProductDetails.aspx?ProductID=234 Locatio
 n Details
URL:http://www.cfpie.com/ProductDetails.aspx?ProductID=234 Location De
 tails
CONTACT:610-648-7550
ORGANIZER:The Center for Professional Innovation and Education
ATTACH;FMTTYPE="image/jpeg":
ATTENDEE;ROLE=REQ-PARTICIPANT;PARTSTAT=ACCEPTED;RSVP=TRUE;CN="SkinDoc 
 MD":https://community.dermrounds.com/profile/SkinDocMD
END:VEVENT
END:VCALENDAR
