BEGIN:VCALENDAR
PRODID:NingEventWidget-v1
VERSION:2.0
METHOD:PUBLISH
BEGIN:VTIMEZONE
TZID:America/Detroit
X-LIC-LOCATION:America/Detroit
BEGIN:DAYLIGHT
TZOFFSETFROM:-0500
TZOFFSETTO:-0400
TZNAME:EDT
DTSTART:19700308T020000
RRULE:FREQ=YEARLY;BYMONTH=3;BYDAY=2SU
END:DAYLIGHT
BEGIN:STANDARD
TZOFFSETFROM:-0400
TZOFFSETTO:-0500
TZNAME:EST
DTSTART:19701101T020000
RRULE:FREQ=YEARLY;BYMONTH=11;BYDAY=1SU
END:STANDARD
END:VTIMEZONE
BEGIN:VEVENT
UID:1980062:Event:51866
DTSTAMP:20260421T173305Z
SUMMARY:GMPs for OTC and Cosmetic Products – US and Global Requireme
 nts
DESCRIPTION:Course runs 9:00 to 5:00 both days (Breakfast & Lunch Incl
 uded)Personal care products in the US often fall into two regulatory p
 roduct categories regulated by the FDA: the cosmetic and the OTC produ
 cts. Both are regulated under the Federal Food, Drug and Cosmetic Act 
 (FFD&C Act). As is required under Section 501(a)(2)(B) of this act, dr
 ugs manufactured in the US must conform to current good manufacturing 
 practices (cGMPs), prescription and OTC alike. GMPs outline regulatory
  requirements for the manufacturing, processing and packaging of pharm
 aceutical products to ensure their safety and effectiveness. The act f
 urther stipulates that cosmetics introduced into interstate commerce s
 hould not be adulterated or misbranded.The cosmetic good manufacturing
  practice is a set of manufacturing guidelines to ensure the safety an
 d quality of cosmetic products. Rigorous adherence to good manufacturi
 ng practice minimizes the risk of adulteration or misbranding of cosme
 tics. This course outlines the international development and harmoniza
 tion of GMPs relevant to cosmetic and OTC products with detailed discu
 ssion in key areas of concern ranging from the facilities to personnel
  to material control to corrective/preventative measures and recordkee
 ping.Who Should AttendThis course focuses on the regulatory requiremen
 ts of good manufacturing practices for OTC and cosmetic products in th
 e US while also referencing key international counterpart to provide a
  well rounded world view for the participants. It is designed for prof
 essionals in the personal care, cosmetic, chemical application and pha
 rmaceutical industries engaged in all aspects of personal care product
  development, including the raw material suppliers, in the following a
 reas:Research & DevelopmentTechnology, Formulation & Product Developme
 ntMarketing & Technical SalesRegulatory AffairsQA & QC ProfessionalsBu
 siness Decision Makers\n\nFor more information visit https://community
 .dermrounds.com/events/gmps-for-otc-and-cosmetic-products-us-and-globa
 l-requirements
DTSTART;TZID=America/Detroit:20170508T090000
DTEND;TZID=America/Detroit:20170509T170000
CATEGORIES:course
LOCATION:The Desmond Hotel and Conference Center, Pennsylvania
WEBSITE:http://www.cfpie.com/ProductDetails.aspx?ProductID=234
URL:http://www.cfpie.com/ProductDetails.aspx?ProductID=234
CONTACT:610-648-7550
ORGANIZER:The Center for Professional Innovation and Education
ATTACH;FMTTYPE="image/jpeg":
ATTENDEE;ROLE=REQ-PARTICIPANT;PARTSTAT=ACCEPTED;RSVP=TRUE;CN="SkinDoc 
 MD":https://community.dermrounds.com/profile/SkinDocMD
END:VEVENT
END:VCALENDAR
