BEGIN:VCALENDAR
PRODID:NingEventWidget-v1
VERSION:2.0
METHOD:PUBLISH
BEGIN:VTIMEZONE
TZID:America/Detroit
X-LIC-LOCATION:America/Detroit
BEGIN:DAYLIGHT
TZOFFSETFROM:-0500
TZOFFSETTO:-0400
TZNAME:EDT
DTSTART:19700308T020000
RRULE:FREQ=YEARLY;BYMONTH=3;BYDAY=2SU
END:DAYLIGHT
BEGIN:STANDARD
TZOFFSETFROM:-0400
TZOFFSETTO:-0500
TZNAME:EST
DTSTART:19701101T020000
RRULE:FREQ=YEARLY;BYMONTH=11;BYDAY=1SU
END:STANDARD
END:VTIMEZONE
BEGIN:VEVENT
UID:1980062:Event:51766
DTSTAMP:20260421T080316Z
SUMMARY:Industries: Skin & Cosmetics US Cosmetic Regulation - FDA CFR 
 Title 21
DESCRIPTION:Course Description - Course runs 9:00 - 5:00 on Day 1 & Da
 y 2 -- 9:00 - 3:00 on Day 3 (Breakfast & Lunch Included)Today's consum
 er product companies face a tremendous task of bringing newer, better 
 products into the market within a much shorter time frame. A successfu
 l market entry strategy often incorporates complex configuration of co
 nsumer trend analysis, scientific know-how, efficiency in product deve
 lopment and supply chain management. It is also essential to factor in
  regulatory feasibility analysis early in the game to avoid unexpected
 , last minute delay in product launch.Cosmetic products marketed in th
 e US are regulated under the authority of the Food & Drug Administrati
 on (FDA). The regulations pertinent to cosmetic products are published
  in Title 21, Code of Federal Regulations, in particular, parts 700 to
  740. In addition, new legislation such as the Safe Cosmetics Act of 2
 011 is emerging and may lead to more stringent requirements in the for
 eseeable future.This course provides an in-depth guide to the US cosme
 tic legislative framework. Key focus is placed on helping the particip
 ants to successfully navigate both existing cosmetic regulations and a
 nticipated future legislation. A brief overview of international regul
 ations will be given to help the participants develop global perspecti
 ves. Workshops with actual case studies will be conducted throughout t
 he course to bring the participants closer to the reality of marketing
  cosmetic products in the US.Who Should AttendThis three-day course is
  designed for professionals in the personal care, cosmetic and pharmac
 eutical industries engaged in all phases of cosmetic product developme
 nt, including:Research & DevelopmentTechnology, Formulation & Product 
 DevelopmentMarketing & Technical SalesRegulatory AffairsQA & QC Profes
 sionalsBusiness Decision Makers\n\nFor more information visit https://
 community.dermrounds.com/events/industries-skin-cosmetics-us-cosmetic-
 regulation-fda-cfr-title-21
DTSTART;TZID=America/Detroit:20170329T090000
DTEND;TZID=America/Detroit:20170331T170000
CATEGORIES:course
LOCATION:The Desmond Hotel and Conference Center
WEBSITE:http://www.cfpie.com/ProductDetails.aspx?ProductID=220
URL:http://www.cfpie.com/ProductDetails.aspx?ProductID=220
CONTACT:610-648-7550
ORGANIZER:The Center for Professional Innovation and Education
ATTACH;FMTTYPE="image/jpeg":
ATTENDEE;ROLE=REQ-PARTICIPANT;PARTSTAT=ACCEPTED;RSVP=TRUE;CN="SkinDoc 
 MD":https://community.dermrounds.com/profile/SkinDocMD
END:VEVENT
END:VCALENDAR
