BEGIN:VCALENDAR
PRODID:NingEventWidget-v1
VERSION:2.0
METHOD:PUBLISH
BEGIN:VTIMEZONE
TZID:America/Detroit
X-LIC-LOCATION:America/Detroit
BEGIN:DAYLIGHT
TZOFFSETFROM:-0500
TZOFFSETTO:-0400
TZNAME:EDT
DTSTART:19700308T020000
RRULE:FREQ=YEARLY;BYMONTH=3;BYDAY=2SU
END:DAYLIGHT
BEGIN:STANDARD
TZOFFSETFROM:-0400
TZOFFSETTO:-0500
TZNAME:EST
DTSTART:19701101T020000
RRULE:FREQ=YEARLY;BYMONTH=11;BYDAY=1SU
END:STANDARD
END:VTIMEZONE
BEGIN:VEVENT
UID:1980062:Event:51769
DTSTAMP:20260421T141248Z
SUMMARY:International Society of Dermatology (ISD) 12th International 
 Congress of Dermatology
DESCRIPTION:The ISD's XII ICD will feature a diverse scientific progra
 m with session topics ranging from medical, aesthetic and tropical der
 matology with an emphasis on the latest diagnostics and therapeutics. 
 Faculty include leading dermatologists from around the world.\n\nFor m
 ore information visit https://community.dermrounds.com/events/internat
 ional-society-of-dermatology-isd-12th-international
DTSTART;TZID=America/Detroit:20170418T000000
DTEND;TZID=America/Detroit:20170422T000000
CATEGORIES:congress
LOCATION:Sheraton Buenos Aires Hotel & Convention Center
WEBSITE:http://www.icd2017.com.ar
URL:http://www.icd2017.com.ar
CONTACT:386-437-4405
ORGANIZER:International Society of Dermatology
ATTACH;FMTTYPE="image/jpeg":
ATTENDEE;ROLE=REQ-PARTICIPANT;PARTSTAT=ACCEPTED;RSVP=TRUE;CN="SkinDoc 
 MD":https://community.dermrounds.com/profile/SkinDocMD
END:VEVENT
END:VCALENDAR
