BEGIN:VCALENDAR
PRODID:NingEventWidget-v1
VERSION:2.0
METHOD:PUBLISH
BEGIN:VTIMEZONE
TZID:America/Detroit
X-LIC-LOCATION:America/Detroit
BEGIN:DAYLIGHT
TZOFFSETFROM:-0500
TZOFFSETTO:-0400
TZNAME:EDT
DTSTART:19700308T020000
RRULE:FREQ=YEARLY;BYMONTH=3;BYDAY=2SU
END:DAYLIGHT
BEGIN:STANDARD
TZOFFSETFROM:-0400
TZOFFSETTO:-0500
TZNAME:EST
DTSTART:19701101T020000
RRULE:FREQ=YEARLY;BYMONTH=11;BYDAY=1SU
END:STANDARD
END:VTIMEZONE
BEGIN:VEVENT
UID:1980062:Event:51586
DTSTAMP:20260420T225712Z
SUMMARY:ISA 2017 - 5th Munich International Summer Academy of Practica
 l Dermatology
DESCRIPTION:The 5th gathering of international experts and colleagues 
 is planned for July 2017 and we extend this invitation to you to join 
 us in Munich. ISA 2017 will once again present a unique and exciting p
 latform where different cultures with a variety of approaches to skin 
 diseases, varying access to and availability of treatment protocols, p
 roducts and equipment will meet, learn and exchange. Emphasis is place
 d on the practical treatment of skin diseases, important in daily prac
 tice.The entire spectrum of practical dermatology will be addressed in
 cluding paediatric dermatology, infectious diseases, dermatosurgery, g
 eriatric dermatology, aesthetic dermatology, laser treatment, leg ulce
 rs and wound healing, dermatopathology, eczema, psoriasis, rosacea, ph
 otodynamic therapy, fillers and botulinumtoxin, trichology. The highly
  successful Master Classes and hands-on courses will be on offer again
 . ISA is not only a colorful event due to its 900 delegates from all o
 ver the world. ISA also profits enormously from the presence of the In
 dustry at the exhibition and various industry sponsored sessions.ISA 2
 017 does not offer an official abstract submission process.Prices for 
 registration start from EUR 120.00.ISA 2017 offers various sponsorship
  opportunities. For further information please contact the ISA Industr
 y Liaison Team at k.krines@interplan.de.\n\nFor more information visit
  https://community.dermrounds.com/events/isa-2017-5th-munich-internati
 onal-summer-academy-of-practical
DTSTART;TZID=America/Detroit:20170725T080000
DTEND;TZID=America/Detroit:20170729T080000
CATEGORIES:conference
LOCATION:Holiday Inn Munich City Centre, Munich
WEBSITE:http://atnd.it/54148-0
URL:http://atnd.it/54148-0
CONTACT:+49 89 54823473
ORGANIZER:INTERPLAN Fortbildungswoche GmbH
ATTACH;FMTTYPE="image/jpeg":
ATTENDEE;ROLE=REQ-PARTICIPANT;PARTSTAT=ACCEPTED;RSVP=TRUE;CN="SkinDoc 
 MD":https://community.dermrounds.com/profile/SkinDocMD
END:VEVENT
END:VCALENDAR
