BEGIN:VCALENDAR
PRODID:NingEventWidget-v1
VERSION:2.0
METHOD:PUBLISH
BEGIN:VTIMEZONE
TZID:America/Detroit
X-LIC-LOCATION:America/Detroit
BEGIN:DAYLIGHT
TZOFFSETFROM:-0500
TZOFFSETTO:-0400
TZNAME:EDT
DTSTART:19700308T020000
RRULE:FREQ=YEARLY;BYMONTH=3;BYDAY=2SU
END:DAYLIGHT
BEGIN:STANDARD
TZOFFSETFROM:-0400
TZOFFSETTO:-0500
TZNAME:EST
DTSTART:19701101T020000
RRULE:FREQ=YEARLY;BYMONTH=11;BYDAY=1SU
END:STANDARD
END:VTIMEZONE
BEGIN:VEVENT
UID:1980062:Event:51567
DTSTAMP:20260421T153846Z
SUMMARY:North American Clinical Dermatologic Society 58th Annual Meeti
 ng
DESCRIPTION:Clinically-oriented lectures, small group discussions, and
  meetings with local dermatologists in several locations. Meeting star
 ts in Buenos Aires April 20-22, Bariloche April 22-25, El Calafate Apr
 il 25-27, Ushuaia April 27-29\n\nFor more information visit https://co
 mmunity.dermrounds.com/events/north-american-clinical-dermatologic-soc
 iety-58th-annual-meeting
DTSTART;TZID=America/Detroit:20170420T000000
DTEND;TZID=America/Detroit:20170429T000000
CATEGORIES:annual, meeting
LOCATION:Buenos Aires, Bariloche, El Calafate, Ushuaia
WEBSITE:http://www.nacds.com
URL:http://www.nacds.com
CONTACT:7072275115
ORGANIZER;CN="SkinDoc MD":https://community.dermrounds.com/profile/Ski
 nDocMD
ATTACH;FMTTYPE="image/jpeg":
ATTENDEE;ROLE=REQ-PARTICIPANT;PARTSTAT=ACCEPTED;RSVP=TRUE;CN="SkinDoc 
 MD":https://community.dermrounds.com/profile/SkinDocMD
END:VEVENT
END:VCALENDAR
