BEGIN:VCALENDAR
PRODID:NingEventWidget-v1
VERSION:2.0
METHOD:PUBLISH
BEGIN:VTIMEZONE
TZID:America/Detroit
X-LIC-LOCATION:America/Detroit
BEGIN:DAYLIGHT
TZOFFSETFROM:-0500
TZOFFSETTO:-0400
TZNAME:EDT
DTSTART:19700308T020000
RRULE:FREQ=YEARLY;BYMONTH=3;BYDAY=2SU
END:DAYLIGHT
BEGIN:STANDARD
TZOFFSETFROM:-0400
TZOFFSETTO:-0500
TZNAME:EST
DTSTART:19701101T020000
RRULE:FREQ=YEARLY;BYMONTH=11;BYDAY=1SU
END:STANDARD
END:VTIMEZONE
BEGIN:VEVENT
UID:1980062:Event:51827
DTSTAMP:20260421T102519Z
SUMMARY:Oral Dermatology and Pathology - Alaskan Cruise Conference
DESCRIPTION:Following attendance at this educational activity, partici
 pants should be able to:\n\nDiscuss the morphology of oral lesions\nLi
 st the characteristics of acute oral ulcers\nIdentify the difference b
 etween simple and complex aphthosis\nDifferentiate between complex aph
 thosis and Behcet's Disease\nExplain the anatomy of the tongue\nDescri
 be the oral lesions of oral lichen planus\nIdentify the common irritan
 t reactions of stomatitis medicamentosa\nDiscuss endogenous, exogenous
  and miscellaneous mucosal pigmentation\nList the diseases that cause 
 desquamative gingivitis\nManage oral lichen planus with topical and sy
 stemic therapy\nList common causes of atypical gingivostomatitis\nIden
 tify patients with pyostomatitis vegetans\nOutline the clinical featur
 es of Melkersson-Rosenthal Syndrome\nDiscuss the myths and facts about
  aging skin, hair, and nails\n\n\nFor more information visit https://c
 ommunity.dermrounds.com/events/oral-dermatology-and-pathology-alaskan-
 cruise-conference
DTSTART;TZID=America/Detroit:20170826T000000
DTEND;TZID=America/Detroit:20170902T235900
CATEGORIES:conference
LOCATION:Seattle, Washington 98101, United States
WEBSITE:https://www.continuingeducation.net/coursedescription.php?topi
 c=Oral_Dermatology_and_Pathology_CME_Alaska_Cruise_August_2017
URL:https://www.continuingeducation.net/coursedescription.php?topic=Or
 al_Dermatology_and_Pathology_CME_Alaska_Cruise_August_2017
CONTACT:
ORGANIZER:
ATTACH;FMTTYPE="image/jpeg":
ATTENDEE;ROLE=REQ-PARTICIPANT;PARTSTAT=ACCEPTED;RSVP=TRUE;CN="SkinDoc 
 MD":https://community.dermrounds.com/profile/SkinDocMD
END:VEVENT
END:VCALENDAR
