BEGIN:VCALENDAR
PRODID:NingEventWidget-v1
VERSION:2.0
METHOD:PUBLISH
BEGIN:VTIMEZONE
TZID:America/Detroit
X-LIC-LOCATION:America/Detroit
BEGIN:DAYLIGHT
TZOFFSETFROM:-0500
TZOFFSETTO:-0400
TZNAME:EDT
DTSTART:19700308T020000
RRULE:FREQ=YEARLY;BYMONTH=3;BYDAY=2SU
END:DAYLIGHT
BEGIN:STANDARD
TZOFFSETFROM:-0400
TZOFFSETTO:-0500
TZNAME:EST
DTSTART:19701101T020000
RRULE:FREQ=YEARLY;BYMONTH=11;BYDAY=1SU
END:STANDARD
END:VTIMEZONE
BEGIN:VEVENT
UID:1980062:Event:51636
DTSTAMP:20260421T122640Z
SUMMARY:Pediatric Dermatology for the Practitioner Conference
DESCRIPTION:Pediatric Dermatology for the Practitioner Conference will
  be held in San Diego, California 92109, United States from 7-8 April
 , 2017. Welcome!\n\nFor more information visit https://community.dermr
 ounds.com/events/pediatric-dermatology-for-the-practitioner-conference
DTSTART;TZID=America/Detroit:20170407T000000
DTEND;TZID=America/Detroit:20170408T235900
CATEGORIES:san, diego, california, 92109, united, states
LOCATION:San Diego, California 92109, United States
WEBSITE:http://www.sdpedsdermconference.com/
URL:http://www.sdpedsdermconference.com/
CONTACT:
ORGANIZER;CN="SkinDoc MD":https://community.dermrounds.com/profile/Ski
 nDocMD
ATTACH;FMTTYPE="image/jpeg":
ATTENDEE;ROLE=REQ-PARTICIPANT;PARTSTAT=ACCEPTED;RSVP=TRUE;CN="SkinDoc 
 MD":https://community.dermrounds.com/profile/SkinDocMD
END:VEVENT
END:VCALENDAR
