BEGIN:VCALENDAR
PRODID:NingEventWidget-v1
VERSION:2.0
METHOD:PUBLISH
BEGIN:VTIMEZONE
TZID:America/Detroit
X-LIC-LOCATION:America/Detroit
BEGIN:DAYLIGHT
TZOFFSETFROM:-0500
TZOFFSETTO:-0400
TZNAME:EDT
DTSTART:19700308T020000
RRULE:FREQ=YEARLY;BYMONTH=3;BYDAY=2SU
END:DAYLIGHT
BEGIN:STANDARD
TZOFFSETFROM:-0400
TZOFFSETTO:-0500
TZNAME:EST
DTSTART:19701101T020000
RRULE:FREQ=YEARLY;BYMONTH=11;BYDAY=1SU
END:STANDARD
END:VTIMEZONE
BEGIN:VEVENT
UID:1980062:Event:51912
DTSTAMP:20260421T171856Z
SUMMARY:Pediatric Dermatology: Progress and Practices
DESCRIPTION:Pediatric Dermatology: Progress and Practices Minneapolis
 , Minnesota 55454, United States on 21 April 2017. Welcome!\n\nFor mor
 e information visit https://community.dermrounds.com/events/pediatric-
 dermatology-progress-and-practices
DTSTART;TZID=America/Detroit:20170421T000000
DTEND;TZID=America/Detroit:20170421T235900
CATEGORIES:conference
LOCATION:Minneapolis, Minnesota 55454, United States
WEBSITE:https://www.cme.umn.edu/courses-learning-opportunities/pediatr
 ic-dermatology-progress-and-practices
URL:https://www.cme.umn.edu/courses-learning-opportunities/pediatric-d
 ermatology-progress-and-practices
CONTACT:
ORGANIZER:
ATTACH;FMTTYPE="image/jpeg":
ATTENDEE;ROLE=REQ-PARTICIPANT;PARTSTAT=ACCEPTED;RSVP=TRUE;CN="SkinDoc 
 MD":https://community.dermrounds.com/profile/SkinDocMD
END:VEVENT
END:VCALENDAR
