BEGIN:VCALENDAR
PRODID:NingEventWidget-v1
VERSION:2.0
METHOD:PUBLISH
BEGIN:VTIMEZONE
TZID:America/Detroit
X-LIC-LOCATION:America/Detroit
BEGIN:DAYLIGHT
TZOFFSETFROM:-0500
TZOFFSETTO:-0400
TZNAME:EDT
DTSTART:19700308T020000
RRULE:FREQ=YEARLY;BYMONTH=3;BYDAY=2SU
END:DAYLIGHT
BEGIN:STANDARD
TZOFFSETFROM:-0400
TZOFFSETTO:-0500
TZNAME:EST
DTSTART:19701101T020000
RRULE:FREQ=YEARLY;BYMONTH=11;BYDAY=1SU
END:STANDARD
END:VTIMEZONE
BEGIN:VEVENT
UID:1980062:Event:51785
DTSTAMP:20260421T214147Z
SUMMARY:Pennyslvania Academy of Dermatology & Dermatologic Surgery - 5
 0th Annual Meeting
DESCRIPTION:Pennyslvania Academy of Dermatology & Dermatologic Surgery
  - 50th Annual Meeting will be held in Hershey, Pennsylvania from 19-2
 2 October 2017.\n\nFor more information visit https://community.dermro
 unds.com/events/pennyslvania-academy-of-dermatology-dermatologic-surge
 ry-50th
DTSTART;TZID=America/Detroit:20171019T000000
DTEND;TZID=America/Detroit:20171022T000000
CATEGORIES:annual, meeting
LOCATION:The Hotel Hershey,
WEBSITE:http://wwwpadermatology.org
URL:http://wwwpadermatology.org
CONTACT:866-650-3376
ORGANIZER:Pennsylvania Academy of Dermatology and Dermatologic Surgery
ATTACH;FMTTYPE="image/jpeg":
ATTENDEE;ROLE=REQ-PARTICIPANT;PARTSTAT=ACCEPTED;RSVP=TRUE;CN="SkinDoc 
 MD":https://community.dermrounds.com/profile/SkinDocMD
END:VEVENT
END:VCALENDAR
