BEGIN:VCALENDAR
PRODID:NingEventWidget-v1
VERSION:2.0
METHOD:PUBLISH
BEGIN:VTIMEZONE
TZID:America/Detroit
X-LIC-LOCATION:America/Detroit
BEGIN:DAYLIGHT
TZOFFSETFROM:-0500
TZOFFSETTO:-0400
TZNAME:EDT
DTSTART:19700308T020000
RRULE:FREQ=YEARLY;BYMONTH=3;BYDAY=2SU
END:DAYLIGHT
BEGIN:STANDARD
TZOFFSETFROM:-0400
TZOFFSETTO:-0500
TZNAME:EST
DTSTART:19701101T020000
RRULE:FREQ=YEARLY;BYMONTH=11;BYDAY=1SU
END:STANDARD
END:VTIMEZONE
BEGIN:VEVENT
UID:1980062:Event:51589
DTSTAMP:20260421T034744Z
SUMMARY:Practical Symposium: Sharpen Your Dermatology, Clinicopatholog
 ic, & Business Skills
DESCRIPTION:This conference is different from other dermatology confer
 ences in that we emphasize clinicopathologic correlation and how derma
 tologists and dermatopathologists work together to establish accurate 
 diagnoses and plan optimal treatment. Furthermore, the conference will
  also emphasize how clinicopathologic correlation can guide research, 
 new drugs and device product development within dermatology.** View pa
 st agendas at practicalsymposium.com **\n\nFor more information visit 
 https://community.dermrounds.com/events/practical-symposium-sharpen-yo
 ur-dermatology-clinicopathologic
DTSTART;TZID=America/Detroit:20170810T000000
DTEND;TZID=America/Detroit:20170813T000000
CATEGORIES:conference
LOCATION:Park Hyatt Beaver Creek Resort & Spa, Colorado
WEBSITE:http://www.practicalsymposium.com
URL:http://www.practicalsymposium.com
CONTACT:1-877-809-7525
ORGANIZER:Meeting Designs, LLC
ATTACH;FMTTYPE="image/jpeg":
ATTENDEE;ROLE=REQ-PARTICIPANT;PARTSTAT=ACCEPTED;RSVP=TRUE;CN="SkinDoc 
 MD":https://community.dermrounds.com/profile/SkinDocMD
END:VEVENT
END:VCALENDAR
