BEGIN:VCALENDAR
PRODID:NingEventWidget-v1
VERSION:2.0
METHOD:PUBLISH
BEGIN:VTIMEZONE
TZID:America/Detroit
X-LIC-LOCATION:America/Detroit
BEGIN:DAYLIGHT
TZOFFSETFROM:-0500
TZOFFSETTO:-0400
TZNAME:EDT
DTSTART:19700308T020000
RRULE:FREQ=YEARLY;BYMONTH=3;BYDAY=2SU
END:DAYLIGHT
BEGIN:STANDARD
TZOFFSETFROM:-0400
TZOFFSETTO:-0500
TZNAME:EST
DTSTART:19701101T020000
RRULE:FREQ=YEARLY;BYMONTH=11;BYDAY=1SU
END:STANDARD
END:VTIMEZONE
BEGIN:VEVENT
UID:1980062:Event:51945
DTSTAMP:20260421T093114Z
SUMMARY:Primary Vasculitides: Best Practices and Future Advances
DESCRIPTION:This symposium features an update on the current standard 
 of care and management of patients with primary vasculitides. Advances
  and future development in the treatment of primary vasculitides will 
 be shared by the experts in this field. 7.25 AMA PRA Category 1 Credi
 ts™ - maximum\n\nFor more information visit https://community.dermro
 unds.com/events/primary-vasculitides-best-practices-and-future-advance
 s
DTSTART;TZID=America/Detroit:20170405T000000
DTEND;TZID=America/Detroit:20170405T235900
CATEGORIES:conference
LOCATION:Cleveland, Ohio 44106, United States
WEBSITE:http://www.clevelandclinicmeded.com/live/courses/bio/overview-
 vasculitis.asp?utm_source=cmepromo&utm_medium=ccfcmelivecalendar&utm_c
 ontent=011%2B17%2Bvasculitis
URL:http://www.clevelandclinicmeded.com/live/courses/bio/overview-vasc
 ulitis.asp?utm_source=cmepromo&utm_medium=ccfcmelivecalendar&utm_conte
 nt=011%2B17%2Bvasculitis
CONTACT:
ORGANIZER:
ATTACH;FMTTYPE="image/jpeg":
ATTENDEE;ROLE=REQ-PARTICIPANT;PARTSTAT=ACCEPTED;RSVP=TRUE;CN="SkinDoc 
 MD":https://community.dermrounds.com/profile/SkinDocMD
END:VEVENT
END:VCALENDAR
