BEGIN:VCALENDAR
PRODID:NingEventWidget-v1
VERSION:2.0
METHOD:PUBLISH
BEGIN:VTIMEZONE
TZID:America/Detroit
X-LIC-LOCATION:America/Detroit
BEGIN:DAYLIGHT
TZOFFSETFROM:-0500
TZOFFSETTO:-0400
TZNAME:EDT
DTSTART:19700308T020000
RRULE:FREQ=YEARLY;BYMONTH=3;BYDAY=2SU
END:DAYLIGHT
BEGIN:STANDARD
TZOFFSETFROM:-0400
TZOFFSETTO:-0500
TZNAME:EST
DTSTART:19701101T020000
RRULE:FREQ=YEARLY;BYMONTH=11;BYDAY=1SU
END:STANDARD
END:VTIMEZONE
BEGIN:VEVENT
UID:1980062:Event:51685
DTSTAMP:20260421T221408Z
SUMMARY:SCALE (Symposium for Cosmetic and Laser Education)
DESCRIPTION:The Tennessee Society for Laser Medicine and Surgery (TSLM
 S) started as a small group of caring laser surgeons who were interest
 ed in sharing ideas, fostering new relationships, and enhancing patien
 t outcomes. We now find our roster of members ever expanding, with one
  of the most recognized national aesthetic courses given anywhere. The
  Symposium will provide the most up-to-date techniques in energy-based
  lasers and systems, in the use of fillers and toxins, skin care and s
 kin care products.\n\nFor more information visit https://community.der
 mrounds.com/events/scale-symposium-for-cosmetic-and-laser-education
DTSTART;TZID=America/Detroit:20170504T000000
DTEND;TZID=America/Detroit:20170507T000000
CATEGORIES:meeting
LOCATION:Music City Convention Center
WEBSITE:
URL:
CONTACT:1-877-809-7525
ORGANIZER:Meeting Designs, LLC
ATTACH;FMTTYPE="image/jpeg":
ATTENDEE;ROLE=REQ-PARTICIPANT;PARTSTAT=ACCEPTED;RSVP=TRUE;CN="SkinDoc 
 MD":https://community.dermrounds.com/profile/SkinDocMD
END:VEVENT
END:VCALENDAR
